BEGIN:VCALENDAR
VERSION:2.0
PRODID:-//Hamazkayin Western USA - ECPv6.15.20//NONSGML v1.0//EN
CALSCALE:GREGORIAN
METHOD:PUBLISH
X-WR-CALNAME:Hamazkayin Western USA
X-ORIGINAL-URL:https://hamazkayinwr.org
X-WR-CALDESC:Events for Hamazkayin Western USA
REFRESH-INTERVAL;VALUE=DURATION:PT1H
X-Robots-Tag:noindex
X-PUBLISHED-TTL:PT1H
BEGIN:VTIMEZONE
TZID:America/Los_Angeles
BEGIN:DAYLIGHT
TZOFFSETFROM:-0800
TZOFFSETTO:-0700
TZNAME:PDT
DTSTART:20240310T100000
END:DAYLIGHT
BEGIN:STANDARD
TZOFFSETFROM:-0700
TZOFFSETTO:-0800
TZNAME:PST
DTSTART:20241103T090000
END:STANDARD
BEGIN:DAYLIGHT
TZOFFSETFROM:-0800
TZOFFSETTO:-0700
TZNAME:PDT
DTSTART:20250309T100000
END:DAYLIGHT
BEGIN:STANDARD
TZOFFSETFROM:-0700
TZOFFSETTO:-0800
TZNAME:PST
DTSTART:20251102T090000
END:STANDARD
BEGIN:DAYLIGHT
TZOFFSETFROM:-0800
TZOFFSETTO:-0700
TZNAME:PDT
DTSTART:20260308T100000
END:DAYLIGHT
BEGIN:STANDARD
TZOFFSETFROM:-0700
TZOFFSETTO:-0800
TZNAME:PST
DTSTART:20261101T090000
END:STANDARD
END:VTIMEZONE
BEGIN:VEVENT
DTSTART;TZID=America/Los_Angeles:20251101T140000
DTEND;TZID=America/Los_Angeles:20251101T160000
DTSTAMP:20260423T171202
CREATED:20251016T200310Z
LAST-MODIFIED:20251016T200314Z
UID:10000732-1762005600-1762012800@hamazkayinwr.org
SUMMARY:Nairian Choir Rehearsal
DESCRIPTION:
URL:https://hamazkayinwr.org/event/nairian-choir-rehearsal/2025-11-01/
END:VEVENT
BEGIN:VEVENT
DTSTART;TZID=America/Los_Angeles:20251105T190000
DTEND;TZID=America/Los_Angeles:20251105T220000
DTSTAMP:20260423T171202
CREATED:20251016T200542Z
LAST-MODIFIED:20251027T172208Z
UID:10000802-1762369200-1762380000@hamazkayinwr.org
SUMMARY:Sayat Nova Choir Rehearsal
DESCRIPTION:
URL:https://hamazkayinwr.org/event/sayat-nova-choir-rehearsal/2025-11-05/
END:VEVENT
BEGIN:VEVENT
DTSTART;TZID=America/Los_Angeles:20251106T170000
DTEND;TZID=America/Los_Angeles:20251106T190000
DTSTAMP:20260423T171202
CREATED:20251012T064117Z
LAST-MODIFIED:20251012T064502Z
UID:10000656-1762448400-1762455600@hamazkayinwr.org
SUMMARY:Needlework Classes - Marash Embroidery
DESCRIPTION:
URL:https://hamazkayinwr.org/event/needlework-classes-marash-embroidery/2025-11-06/
LOCATION:Headquarter Offices for the Hamazkayin Cultural Foundation\, 1524 Cañada Blvd.\, Glendale\, CA\, 91208
ATTACH;FMTTYPE=image/png:https://hamazkayinwr.org/wp-content/uploads/2025/10/FLYER-Marash-embroidery-October-2025-copy.png
END:VEVENT
BEGIN:VEVENT
DTSTART;TZID=America/Los_Angeles:20251107T170000
DTEND;TZID=America/Los_Angeles:20251107T190000
DTSTAMP:20260423T171202
CREATED:20251016T195716Z
LAST-MODIFIED:20251016T195721Z
UID:10000689-1762534800-1762542000@hamazkayinwr.org
SUMMARY:Կար ու Ձեւի Դասարան
DESCRIPTION:
URL:https://hamazkayinwr.org/event/%d5%af%d5%a1%d6%80-%d5%b8%d6%82-%d5%b1%d5%a5%d6%82%d5%ab-%d5%a4%d5%a1%d5%bd%d5%a1%d6%80%d5%a1%d5%b6/2025-11-07/
ATTACH;FMTTYPE=image/png:https://hamazkayinwr.org/wp-content/uploads/2025/10/Sewing-Postcard-8.5x11-2025Final-NEW-copy.png
END:VEVENT
BEGIN:VEVENT
DTSTART;TZID=America/Los_Angeles:20251107T190000
DTEND;TZID=America/Los_Angeles:20251107T210000
DTSTAMP:20260423T171202
CREATED:20240613T223638Z
LAST-MODIFIED:20240613T223638Z
UID:10000084-1762542000-1762549200@hamazkayinwr.org
SUMMARY:Acting Workshops
DESCRIPTION:Join our Hamazkayin Theatre Company’s new Acting Workshops!\n\n\n\nWorkshops are every Friday starting on June 14\, 2024 from 7-9pm at Glendale Youth Center (211 W. Chestnut St\, Glendale\, CA).\n\n\n\nNo professional experience required! Workshops are FREE and conducted in Armenian.\n\n\n\nFore more information\, call Shoushig at (714) 403-0875.
URL:https://hamazkayinwr.org/event/acting-workshops/2025-11-07/
LOCATION:Glendale Youth Center\, 211 W. Chestnut St\, Glendale\, CA\, 91204\, United States
CATEGORIES:Theater,Workshops
ATTACH;FMTTYPE=image/png:https://hamazkayinwr.org/wp-content/uploads/2024/06/Hamazkayin-Theater-Workshop-Promo.png
END:VEVENT
BEGIN:VEVENT
DTSTART;TZID=America/Los_Angeles:20251108T113000
DTEND;TZID=America/Los_Angeles:20251108T143000
DTSTAMP:20260423T171202
CREATED:20251008T230842Z
LAST-MODIFIED:20251008T230847Z
UID:10000371-1762601400-1762612200@hamazkayinwr.org
SUMMARY:Ghapama Making Workshop
DESCRIPTION:
URL:https://hamazkayinwr.org/event/ghapama-making-workshop/
LOCATION:Headquarter Offices for the Hamazkayin Cultural Foundation\, 1524 Cañada Blvd.\, Glendale\, CA\, 91208
ATTACH;FMTTYPE=image/png:https://hamazkayinwr.org/wp-content/uploads/2025/10/Ghapama-11-08-2025-.png
END:VEVENT
BEGIN:VEVENT
DTSTART;TZID=America/Los_Angeles:20251108T140000
DTEND;TZID=America/Los_Angeles:20251108T160000
DTSTAMP:20260423T171202
CREATED:20251016T200310Z
LAST-MODIFIED:20251016T200314Z
UID:10000733-1762610400-1762617600@hamazkayinwr.org
SUMMARY:Nairian Choir Rehearsal
DESCRIPTION:
URL:https://hamazkayinwr.org/event/nairian-choir-rehearsal/2025-11-08/
END:VEVENT
BEGIN:VEVENT
DTSTART;TZID=America/Los_Angeles:20251112T190000
DTEND;TZID=America/Los_Angeles:20251112T220000
DTSTAMP:20260423T171202
CREATED:20251016T200542Z
LAST-MODIFIED:20251027T172208Z
UID:10000803-1762974000-1762984800@hamazkayinwr.org
SUMMARY:Sayat Nova Choir Rehearsal
DESCRIPTION:
URL:https://hamazkayinwr.org/event/sayat-nova-choir-rehearsal/2025-11-12/
END:VEVENT
BEGIN:VEVENT
DTSTART;TZID=America/Los_Angeles:20251113T170000
DTEND;TZID=America/Los_Angeles:20251113T190000
DTSTAMP:20260423T171202
CREATED:20251012T064117Z
LAST-MODIFIED:20251012T064502Z
UID:10000657-1763053200-1763060400@hamazkayinwr.org
SUMMARY:Needlework Classes - Marash Embroidery
DESCRIPTION:
URL:https://hamazkayinwr.org/event/needlework-classes-marash-embroidery/2025-11-13/
LOCATION:Headquarter Offices for the Hamazkayin Cultural Foundation\, 1524 Cañada Blvd.\, Glendale\, CA\, 91208
ATTACH;FMTTYPE=image/png:https://hamazkayinwr.org/wp-content/uploads/2025/10/FLYER-Marash-embroidery-October-2025-copy.png
END:VEVENT
BEGIN:VEVENT
DTSTART;TZID=America/Los_Angeles:20251114T170000
DTEND;TZID=America/Los_Angeles:20251114T190000
DTSTAMP:20260423T171202
CREATED:20251016T195716Z
LAST-MODIFIED:20251016T195721Z
UID:10000690-1763139600-1763146800@hamazkayinwr.org
SUMMARY:Կար ու Ձեւի Դասարան
DESCRIPTION:
URL:https://hamazkayinwr.org/event/%d5%af%d5%a1%d6%80-%d5%b8%d6%82-%d5%b1%d5%a5%d6%82%d5%ab-%d5%a4%d5%a1%d5%bd%d5%a1%d6%80%d5%a1%d5%b6/2025-11-14/
ATTACH;FMTTYPE=image/png:https://hamazkayinwr.org/wp-content/uploads/2025/10/Sewing-Postcard-8.5x11-2025Final-NEW-copy.png
END:VEVENT
BEGIN:VEVENT
DTSTART;TZID=America/Los_Angeles:20251114T190000
DTEND;TZID=America/Los_Angeles:20251114T210000
DTSTAMP:20260423T171202
CREATED:20240613T223638Z
LAST-MODIFIED:20240613T223638Z
UID:10000085-1763146800-1763154000@hamazkayinwr.org
SUMMARY:Acting Workshops
DESCRIPTION:Join our Hamazkayin Theatre Company’s new Acting Workshops!\n\n\n\nWorkshops are every Friday starting on June 14\, 2024 from 7-9pm at Glendale Youth Center (211 W. Chestnut St\, Glendale\, CA).\n\n\n\nNo professional experience required! Workshops are FREE and conducted in Armenian.\n\n\n\nFore more information\, call Shoushig at (714) 403-0875.
URL:https://hamazkayinwr.org/event/acting-workshops/2025-11-14/
LOCATION:Glendale Youth Center\, 211 W. Chestnut St\, Glendale\, CA\, 91204\, United States
CATEGORIES:Theater,Workshops
ATTACH;FMTTYPE=image/png:https://hamazkayinwr.org/wp-content/uploads/2024/06/Hamazkayin-Theater-Workshop-Promo.png
END:VEVENT
BEGIN:VEVENT
DTSTART;TZID=America/Los_Angeles:20251115T140000
DTEND;TZID=America/Los_Angeles:20251115T160000
DTSTAMP:20260423T171202
CREATED:20251016T200310Z
LAST-MODIFIED:20251016T200314Z
UID:10000734-1763215200-1763222400@hamazkayinwr.org
SUMMARY:Nairian Choir Rehearsal
DESCRIPTION:
URL:https://hamazkayinwr.org/event/nairian-choir-rehearsal/2025-11-15/
END:VEVENT
BEGIN:VEVENT
DTSTART;TZID=America/Los_Angeles:20251119T190000
DTEND;TZID=America/Los_Angeles:20251119T220000
DTSTAMP:20260423T171202
CREATED:20251016T200542Z
LAST-MODIFIED:20251027T172208Z
UID:10000804-1763578800-1763589600@hamazkayinwr.org
SUMMARY:Sayat Nova Choir Rehearsal
DESCRIPTION:
URL:https://hamazkayinwr.org/event/sayat-nova-choir-rehearsal/2025-11-19/
END:VEVENT
BEGIN:VEVENT
DTSTART;TZID=America/Los_Angeles:20251120T170000
DTEND;TZID=America/Los_Angeles:20251120T190000
DTSTAMP:20260423T171202
CREATED:20251012T064117Z
LAST-MODIFIED:20251012T064502Z
UID:10000658-1763658000-1763665200@hamazkayinwr.org
SUMMARY:Needlework Classes - Marash Embroidery
DESCRIPTION:
URL:https://hamazkayinwr.org/event/needlework-classes-marash-embroidery/2025-11-20/
LOCATION:Headquarter Offices for the Hamazkayin Cultural Foundation\, 1524 Cañada Blvd.\, Glendale\, CA\, 91208
ATTACH;FMTTYPE=image/png:https://hamazkayinwr.org/wp-content/uploads/2025/10/FLYER-Marash-embroidery-October-2025-copy.png
END:VEVENT
BEGIN:VEVENT
DTSTART;TZID=America/Los_Angeles:20251121T170000
DTEND;TZID=America/Los_Angeles:20251121T190000
DTSTAMP:20260423T171202
CREATED:20251016T195716Z
LAST-MODIFIED:20251016T195721Z
UID:10000691-1763744400-1763751600@hamazkayinwr.org
SUMMARY:Կար ու Ձեւի Դասարան
DESCRIPTION:
URL:https://hamazkayinwr.org/event/%d5%af%d5%a1%d6%80-%d5%b8%d6%82-%d5%b1%d5%a5%d6%82%d5%ab-%d5%a4%d5%a1%d5%bd%d5%a1%d6%80%d5%a1%d5%b6/2025-11-21/
ATTACH;FMTTYPE=image/png:https://hamazkayinwr.org/wp-content/uploads/2025/10/Sewing-Postcard-8.5x11-2025Final-NEW-copy.png
END:VEVENT
BEGIN:VEVENT
DTSTART;TZID=America/Los_Angeles:20251121T190000
DTEND;TZID=America/Los_Angeles:20251121T210000
DTSTAMP:20260423T171202
CREATED:20240613T223638Z
LAST-MODIFIED:20240613T223638Z
UID:10000086-1763751600-1763758800@hamazkayinwr.org
SUMMARY:Acting Workshops
DESCRIPTION:Join our Hamazkayin Theatre Company’s new Acting Workshops!\n\n\n\nWorkshops are every Friday starting on June 14\, 2024 from 7-9pm at Glendale Youth Center (211 W. Chestnut St\, Glendale\, CA).\n\n\n\nNo professional experience required! Workshops are FREE and conducted in Armenian.\n\n\n\nFore more information\, call Shoushig at (714) 403-0875.
URL:https://hamazkayinwr.org/event/acting-workshops/2025-11-21/
LOCATION:Glendale Youth Center\, 211 W. Chestnut St\, Glendale\, CA\, 91204\, United States
CATEGORIES:Theater,Workshops
ATTACH;FMTTYPE=image/png:https://hamazkayinwr.org/wp-content/uploads/2024/06/Hamazkayin-Theater-Workshop-Promo.png
END:VEVENT
BEGIN:VEVENT
DTSTART;TZID=America/Los_Angeles:20251122T140000
DTEND;TZID=America/Los_Angeles:20251122T160000
DTSTAMP:20260423T171202
CREATED:20251016T200310Z
LAST-MODIFIED:20251016T200314Z
UID:10000735-1763820000-1763827200@hamazkayinwr.org
SUMMARY:Nairian Choir Rehearsal
DESCRIPTION:
URL:https://hamazkayinwr.org/event/nairian-choir-rehearsal/2025-11-22/
END:VEVENT
BEGIN:VEVENT
DTSTART;TZID=America/Los_Angeles:20251126T190000
DTEND;TZID=America/Los_Angeles:20251126T220000
DTSTAMP:20260423T171202
CREATED:20251016T200542Z
LAST-MODIFIED:20251027T172208Z
UID:10000805-1764183600-1764194400@hamazkayinwr.org
SUMMARY:Sayat Nova Choir Rehearsal
DESCRIPTION:
URL:https://hamazkayinwr.org/event/sayat-nova-choir-rehearsal/2025-11-26/
END:VEVENT
BEGIN:VEVENT
DTSTART;TZID=America/Los_Angeles:20251127T170000
DTEND;TZID=America/Los_Angeles:20251127T190000
DTSTAMP:20260423T171202
CREATED:20251012T064117Z
LAST-MODIFIED:20251012T064502Z
UID:10000659-1764262800-1764270000@hamazkayinwr.org
SUMMARY:Needlework Classes - Marash Embroidery
DESCRIPTION:
URL:https://hamazkayinwr.org/event/needlework-classes-marash-embroidery/2025-11-27/
LOCATION:Headquarter Offices for the Hamazkayin Cultural Foundation\, 1524 Cañada Blvd.\, Glendale\, CA\, 91208
ATTACH;FMTTYPE=image/png:https://hamazkayinwr.org/wp-content/uploads/2025/10/FLYER-Marash-embroidery-October-2025-copy.png
END:VEVENT
BEGIN:VEVENT
DTSTART;TZID=America/Los_Angeles:20251128T170000
DTEND;TZID=America/Los_Angeles:20251128T190000
DTSTAMP:20260423T171202
CREATED:20251016T195716Z
LAST-MODIFIED:20251016T195721Z
UID:10000692-1764349200-1764356400@hamazkayinwr.org
SUMMARY:Կար ու Ձեւի Դասարան
DESCRIPTION:
URL:https://hamazkayinwr.org/event/%d5%af%d5%a1%d6%80-%d5%b8%d6%82-%d5%b1%d5%a5%d6%82%d5%ab-%d5%a4%d5%a1%d5%bd%d5%a1%d6%80%d5%a1%d5%b6/2025-11-28/
ATTACH;FMTTYPE=image/png:https://hamazkayinwr.org/wp-content/uploads/2025/10/Sewing-Postcard-8.5x11-2025Final-NEW-copy.png
END:VEVENT
BEGIN:VEVENT
DTSTART;TZID=America/Los_Angeles:20251128T190000
DTEND;TZID=America/Los_Angeles:20251128T210000
DTSTAMP:20260423T171202
CREATED:20240613T223638Z
LAST-MODIFIED:20240613T223638Z
UID:10000087-1764356400-1764363600@hamazkayinwr.org
SUMMARY:Acting Workshops
DESCRIPTION:Join our Hamazkayin Theatre Company’s new Acting Workshops!\n\n\n\nWorkshops are every Friday starting on June 14\, 2024 from 7-9pm at Glendale Youth Center (211 W. Chestnut St\, Glendale\, CA).\n\n\n\nNo professional experience required! Workshops are FREE and conducted in Armenian.\n\n\n\nFore more information\, call Shoushig at (714) 403-0875.
URL:https://hamazkayinwr.org/event/acting-workshops/2025-11-28/
LOCATION:Glendale Youth Center\, 211 W. Chestnut St\, Glendale\, CA\, 91204\, United States
CATEGORIES:Theater,Workshops
ATTACH;FMTTYPE=image/png:https://hamazkayinwr.org/wp-content/uploads/2024/06/Hamazkayin-Theater-Workshop-Promo.png
END:VEVENT
BEGIN:VEVENT
DTSTART;TZID=America/Los_Angeles:20251129T140000
DTEND;TZID=America/Los_Angeles:20251129T160000
DTSTAMP:20260423T171202
CREATED:20251016T200310Z
LAST-MODIFIED:20251016T200314Z
UID:10000736-1764424800-1764432000@hamazkayinwr.org
SUMMARY:Nairian Choir Rehearsal
DESCRIPTION:
URL:https://hamazkayinwr.org/event/nairian-choir-rehearsal/2025-11-29/
END:VEVENT
END:VCALENDAR