BEGIN:VCALENDAR
VERSION:2.0
PRODID:-//Hamazkayin Western USA - ECPv6.15.20//NONSGML v1.0//EN
CALSCALE:GREGORIAN
METHOD:PUBLISH
X-WR-CALNAME:Hamazkayin Western USA
X-ORIGINAL-URL:https://hamazkayinwr.org
X-WR-CALDESC:Events for Hamazkayin Western USA
REFRESH-INTERVAL;VALUE=DURATION:PT1H
X-Robots-Tag:noindex
X-PUBLISHED-TTL:PT1H
BEGIN:VTIMEZONE
TZID:America/Los_Angeles
BEGIN:DAYLIGHT
TZOFFSETFROM:-0800
TZOFFSETTO:-0700
TZNAME:PDT
DTSTART:20240310T100000
END:DAYLIGHT
BEGIN:STANDARD
TZOFFSETFROM:-0700
TZOFFSETTO:-0800
TZNAME:PST
DTSTART:20241103T090000
END:STANDARD
BEGIN:DAYLIGHT
TZOFFSETFROM:-0800
TZOFFSETTO:-0700
TZNAME:PDT
DTSTART:20250309T100000
END:DAYLIGHT
BEGIN:STANDARD
TZOFFSETFROM:-0700
TZOFFSETTO:-0800
TZNAME:PST
DTSTART:20251102T090000
END:STANDARD
BEGIN:DAYLIGHT
TZOFFSETFROM:-0800
TZOFFSETTO:-0700
TZNAME:PDT
DTSTART:20260308T100000
END:DAYLIGHT
BEGIN:STANDARD
TZOFFSETFROM:-0700
TZOFFSETTO:-0800
TZNAME:PST
DTSTART:20261101T090000
END:STANDARD
END:VTIMEZONE
BEGIN:VEVENT
DTSTART;TZID=America/Los_Angeles:20250702T190000
DTEND;TZID=America/Los_Angeles:20250702T220000
DTSTAMP:20260424T000525
CREATED:20251016T200542Z
LAST-MODIFIED:20251027T172208Z
UID:10000784-1751482800-1751493600@hamazkayinwr.org
SUMMARY:Sayat Nova Choir Rehearsal
DESCRIPTION:
URL:https://hamazkayinwr.org/event/sayat-nova-choir-rehearsal/2025-07-02/
END:VEVENT
BEGIN:VEVENT
DTSTART;TZID=America/Los_Angeles:20250704T170000
DTEND;TZID=America/Los_Angeles:20250704T190000
DTSTAMP:20260424T000525
CREATED:20251016T195716Z
LAST-MODIFIED:20251016T195721Z
UID:10000671-1751648400-1751655600@hamazkayinwr.org
SUMMARY:Կար ու Ձեւի Դասարան
DESCRIPTION:
URL:https://hamazkayinwr.org/event/%d5%af%d5%a1%d6%80-%d5%b8%d6%82-%d5%b1%d5%a5%d6%82%d5%ab-%d5%a4%d5%a1%d5%bd%d5%a1%d6%80%d5%a1%d5%b6/2025-07-04/
ATTACH;FMTTYPE=image/png:https://hamazkayinwr.org/wp-content/uploads/2025/10/Sewing-Postcard-8.5x11-2025Final-NEW-copy.png
END:VEVENT
BEGIN:VEVENT
DTSTART;TZID=America/Los_Angeles:20250704T190000
DTEND;TZID=America/Los_Angeles:20250704T210000
DTSTAMP:20260424T000525
CREATED:20240613T223638Z
LAST-MODIFIED:20240613T223638Z
UID:10000066-1751655600-1751662800@hamazkayinwr.org
SUMMARY:Acting Workshops
DESCRIPTION:Join our Hamazkayin Theatre Company’s new Acting Workshops!\n\n\n\nWorkshops are every Friday starting on June 14\, 2024 from 7-9pm at Glendale Youth Center (211 W. Chestnut St\, Glendale\, CA).\n\n\n\nNo professional experience required! Workshops are FREE and conducted in Armenian.\n\n\n\nFore more information\, call Shoushig at (714) 403-0875.
URL:https://hamazkayinwr.org/event/acting-workshops/2025-07-04/
LOCATION:Glendale Youth Center\, 211 W. Chestnut St\, Glendale\, CA\, 91204\, United States
CATEGORIES:Theater,Workshops
ATTACH;FMTTYPE=image/png:https://hamazkayinwr.org/wp-content/uploads/2024/06/Hamazkayin-Theater-Workshop-Promo.png
END:VEVENT
BEGIN:VEVENT
DTSTART;TZID=America/Los_Angeles:20250709T190000
DTEND;TZID=America/Los_Angeles:20250709T220000
DTSTAMP:20260424T000525
CREATED:20251016T200542Z
LAST-MODIFIED:20251027T172208Z
UID:10000785-1752087600-1752098400@hamazkayinwr.org
SUMMARY:Sayat Nova Choir Rehearsal
DESCRIPTION:
URL:https://hamazkayinwr.org/event/sayat-nova-choir-rehearsal/2025-07-09/
END:VEVENT
BEGIN:VEVENT
DTSTART;TZID=America/Los_Angeles:20250711T170000
DTEND;TZID=America/Los_Angeles:20250711T190000
DTSTAMP:20260424T000525
CREATED:20251016T195716Z
LAST-MODIFIED:20251016T195721Z
UID:10000672-1752253200-1752260400@hamazkayinwr.org
SUMMARY:Կար ու Ձեւի Դասարան
DESCRIPTION:
URL:https://hamazkayinwr.org/event/%d5%af%d5%a1%d6%80-%d5%b8%d6%82-%d5%b1%d5%a5%d6%82%d5%ab-%d5%a4%d5%a1%d5%bd%d5%a1%d6%80%d5%a1%d5%b6/2025-07-11/
ATTACH;FMTTYPE=image/png:https://hamazkayinwr.org/wp-content/uploads/2025/10/Sewing-Postcard-8.5x11-2025Final-NEW-copy.png
END:VEVENT
BEGIN:VEVENT
DTSTART;TZID=America/Los_Angeles:20250711T190000
DTEND;TZID=America/Los_Angeles:20250711T210000
DTSTAMP:20260424T000525
CREATED:20240613T223638Z
LAST-MODIFIED:20240613T223638Z
UID:10000067-1752260400-1752267600@hamazkayinwr.org
SUMMARY:Acting Workshops
DESCRIPTION:Join our Hamazkayin Theatre Company’s new Acting Workshops!\n\n\n\nWorkshops are every Friday starting on June 14\, 2024 from 7-9pm at Glendale Youth Center (211 W. Chestnut St\, Glendale\, CA).\n\n\n\nNo professional experience required! Workshops are FREE and conducted in Armenian.\n\n\n\nFore more information\, call Shoushig at (714) 403-0875.
URL:https://hamazkayinwr.org/event/acting-workshops/2025-07-11/
LOCATION:Glendale Youth Center\, 211 W. Chestnut St\, Glendale\, CA\, 91204\, United States
CATEGORIES:Theater,Workshops
ATTACH;FMTTYPE=image/png:https://hamazkayinwr.org/wp-content/uploads/2024/06/Hamazkayin-Theater-Workshop-Promo.png
END:VEVENT
BEGIN:VEVENT
DTSTART;TZID=America/Los_Angeles:20250716T190000
DTEND;TZID=America/Los_Angeles:20250716T220000
DTSTAMP:20260424T000525
CREATED:20251016T200542Z
LAST-MODIFIED:20251027T172208Z
UID:10000786-1752692400-1752703200@hamazkayinwr.org
SUMMARY:Sayat Nova Choir Rehearsal
DESCRIPTION:
URL:https://hamazkayinwr.org/event/sayat-nova-choir-rehearsal/2025-07-16/
END:VEVENT
BEGIN:VEVENT
DTSTART;TZID=America/Los_Angeles:20250718T170000
DTEND;TZID=America/Los_Angeles:20250718T190000
DTSTAMP:20260424T000525
CREATED:20251016T195716Z
LAST-MODIFIED:20251016T195721Z
UID:10000673-1752858000-1752865200@hamazkayinwr.org
SUMMARY:Կար ու Ձեւի Դասարան
DESCRIPTION:
URL:https://hamazkayinwr.org/event/%d5%af%d5%a1%d6%80-%d5%b8%d6%82-%d5%b1%d5%a5%d6%82%d5%ab-%d5%a4%d5%a1%d5%bd%d5%a1%d6%80%d5%a1%d5%b6/2025-07-18/
ATTACH;FMTTYPE=image/png:https://hamazkayinwr.org/wp-content/uploads/2025/10/Sewing-Postcard-8.5x11-2025Final-NEW-copy.png
END:VEVENT
BEGIN:VEVENT
DTSTART;TZID=America/Los_Angeles:20250718T190000
DTEND;TZID=America/Los_Angeles:20250718T210000
DTSTAMP:20260424T000525
CREATED:20240613T223638Z
LAST-MODIFIED:20240613T223638Z
UID:10000068-1752865200-1752872400@hamazkayinwr.org
SUMMARY:Acting Workshops
DESCRIPTION:Join our Hamazkayin Theatre Company’s new Acting Workshops!\n\n\n\nWorkshops are every Friday starting on June 14\, 2024 from 7-9pm at Glendale Youth Center (211 W. Chestnut St\, Glendale\, CA).\n\n\n\nNo professional experience required! Workshops are FREE and conducted in Armenian.\n\n\n\nFore more information\, call Shoushig at (714) 403-0875.
URL:https://hamazkayinwr.org/event/acting-workshops/2025-07-18/
LOCATION:Glendale Youth Center\, 211 W. Chestnut St\, Glendale\, CA\, 91204\, United States
CATEGORIES:Theater,Workshops
ATTACH;FMTTYPE=image/png:https://hamazkayinwr.org/wp-content/uploads/2024/06/Hamazkayin-Theater-Workshop-Promo.png
END:VEVENT
BEGIN:VEVENT
DTSTART;TZID=America/Los_Angeles:20250723T190000
DTEND;TZID=America/Los_Angeles:20250723T220000
DTSTAMP:20260424T000525
CREATED:20251016T200542Z
LAST-MODIFIED:20251027T172208Z
UID:10000787-1753297200-1753308000@hamazkayinwr.org
SUMMARY:Sayat Nova Choir Rehearsal
DESCRIPTION:
URL:https://hamazkayinwr.org/event/sayat-nova-choir-rehearsal/2025-07-23/
END:VEVENT
BEGIN:VEVENT
DTSTART;TZID=America/Los_Angeles:20250725T170000
DTEND;TZID=America/Los_Angeles:20250725T190000
DTSTAMP:20260424T000525
CREATED:20251016T195716Z
LAST-MODIFIED:20251016T195721Z
UID:10000674-1753462800-1753470000@hamazkayinwr.org
SUMMARY:Կար ու Ձեւի Դասարան
DESCRIPTION:
URL:https://hamazkayinwr.org/event/%d5%af%d5%a1%d6%80-%d5%b8%d6%82-%d5%b1%d5%a5%d6%82%d5%ab-%d5%a4%d5%a1%d5%bd%d5%a1%d6%80%d5%a1%d5%b6/2025-07-25/
ATTACH;FMTTYPE=image/png:https://hamazkayinwr.org/wp-content/uploads/2025/10/Sewing-Postcard-8.5x11-2025Final-NEW-copy.png
END:VEVENT
BEGIN:VEVENT
DTSTART;TZID=America/Los_Angeles:20250725T190000
DTEND;TZID=America/Los_Angeles:20250725T210000
DTSTAMP:20260424T000525
CREATED:20240613T223638Z
LAST-MODIFIED:20240613T223638Z
UID:10000069-1753470000-1753477200@hamazkayinwr.org
SUMMARY:Acting Workshops
DESCRIPTION:Join our Hamazkayin Theatre Company’s new Acting Workshops!\n\n\n\nWorkshops are every Friday starting on June 14\, 2024 from 7-9pm at Glendale Youth Center (211 W. Chestnut St\, Glendale\, CA).\n\n\n\nNo professional experience required! Workshops are FREE and conducted in Armenian.\n\n\n\nFore more information\, call Shoushig at (714) 403-0875.
URL:https://hamazkayinwr.org/event/acting-workshops/2025-07-25/
LOCATION:Glendale Youth Center\, 211 W. Chestnut St\, Glendale\, CA\, 91204\, United States
CATEGORIES:Theater,Workshops
ATTACH;FMTTYPE=image/png:https://hamazkayinwr.org/wp-content/uploads/2024/06/Hamazkayin-Theater-Workshop-Promo.png
END:VEVENT
BEGIN:VEVENT
DTSTART;TZID=America/Los_Angeles:20250730T190000
DTEND;TZID=America/Los_Angeles:20250730T220000
DTSTAMP:20260424T000525
CREATED:20251016T200542Z
LAST-MODIFIED:20251027T172208Z
UID:10000788-1753902000-1753912800@hamazkayinwr.org
SUMMARY:Sayat Nova Choir Rehearsal
DESCRIPTION:
URL:https://hamazkayinwr.org/event/sayat-nova-choir-rehearsal/2025-07-30/
END:VEVENT
END:VCALENDAR