BEGIN:VCALENDAR
VERSION:2.0
PRODID:-//Hamazkayin Western USA - ECPv6.15.20//NONSGML v1.0//EN
CALSCALE:GREGORIAN
METHOD:PUBLISH
X-WR-CALNAME:Hamazkayin Western USA
X-ORIGINAL-URL:https://hamazkayinwr.org
X-WR-CALDESC:Events for Hamazkayin Western USA
REFRESH-INTERVAL;VALUE=DURATION:PT1H
X-Robots-Tag:noindex
X-PUBLISHED-TTL:PT1H
BEGIN:VTIMEZONE
TZID:America/Los_Angeles
BEGIN:DAYLIGHT
TZOFFSETFROM:-0800
TZOFFSETTO:-0700
TZNAME:PDT
DTSTART:20240310T100000
END:DAYLIGHT
BEGIN:STANDARD
TZOFFSETFROM:-0700
TZOFFSETTO:-0800
TZNAME:PST
DTSTART:20241103T090000
END:STANDARD
BEGIN:DAYLIGHT
TZOFFSETFROM:-0800
TZOFFSETTO:-0700
TZNAME:PDT
DTSTART:20250309T100000
END:DAYLIGHT
BEGIN:STANDARD
TZOFFSETFROM:-0700
TZOFFSETTO:-0800
TZNAME:PST
DTSTART:20251102T090000
END:STANDARD
BEGIN:DAYLIGHT
TZOFFSETFROM:-0800
TZOFFSETTO:-0700
TZNAME:PDT
DTSTART:20260308T100000
END:DAYLIGHT
BEGIN:STANDARD
TZOFFSETFROM:-0700
TZOFFSETTO:-0800
TZNAME:PST
DTSTART:20261101T090000
END:STANDARD
END:VTIMEZONE
BEGIN:VEVENT
DTSTART;TZID=America/Los_Angeles:20250518T163000
DTEND;TZID=America/Los_Angeles:20250518T193000
DTSTAMP:20260425T084626
CREATED:20250507T031835Z
LAST-MODIFIED:20250507T035313Z
UID:10000099-1747585800-1747596600@hamazkayinwr.org
SUMMARY:Book Presentation
DESCRIPTION:
URL:https://hamazkayinwr.org/event/book-presentation/
LOCATION:Headquarter Offices for the Hamazkayin Cultural Foundation\, 1524 Cañada Blvd.\, Glendale\, CA\, 91208
CATEGORIES:Book Presentation,Literature
ATTACH;FMTTYPE=image/jpeg:https://hamazkayinwr.org/wp-content/uploads/2025/05/495312866_1097956729043314_6329476213737870652_n.jpg
END:VEVENT
BEGIN:VEVENT
DTSTART;TZID=America/Los_Angeles:20250521T190000
DTEND;TZID=America/Los_Angeles:20250521T220000
DTSTAMP:20260425T084626
CREATED:20251016T200542Z
LAST-MODIFIED:20251027T172208Z
UID:10000778-1747854000-1747864800@hamazkayinwr.org
SUMMARY:Sayat Nova Choir Rehearsal
DESCRIPTION:
URL:https://hamazkayinwr.org/event/sayat-nova-choir-rehearsal/2025-05-21/
END:VEVENT
BEGIN:VEVENT
DTSTART;TZID=America/Los_Angeles:20250523T190000
DTEND;TZID=America/Los_Angeles:20250523T210000
DTSTAMP:20260425T084626
CREATED:20240613T223638Z
LAST-MODIFIED:20240613T223638Z
UID:10000060-1748026800-1748034000@hamazkayinwr.org
SUMMARY:Acting Workshops
DESCRIPTION:Join our Hamazkayin Theatre Company’s new Acting Workshops!\n\n\n\nWorkshops are every Friday starting on June 14\, 2024 from 7-9pm at Glendale Youth Center (211 W. Chestnut St\, Glendale\, CA).\n\n\n\nNo professional experience required! Workshops are FREE and conducted in Armenian.\n\n\n\nFore more information\, call Shoushig at (714) 403-0875.
URL:https://hamazkayinwr.org/event/acting-workshops/2025-05-23/
LOCATION:Glendale Youth Center\, 211 W. Chestnut St\, Glendale\, CA\, 91204\, United States
CATEGORIES:Theater,Workshops
ATTACH;FMTTYPE=image/png:https://hamazkayinwr.org/wp-content/uploads/2024/06/Hamazkayin-Theater-Workshop-Promo.png
END:VEVENT
BEGIN:VEVENT
DTSTART;TZID=America/Los_Angeles:20250528T190000
DTEND;TZID=America/Los_Angeles:20250528T220000
DTSTAMP:20260425T084626
CREATED:20251016T200542Z
LAST-MODIFIED:20251027T172208Z
UID:10000779-1748458800-1748469600@hamazkayinwr.org
SUMMARY:Sayat Nova Choir Rehearsal
DESCRIPTION:
URL:https://hamazkayinwr.org/event/sayat-nova-choir-rehearsal/2025-05-28/
END:VEVENT
BEGIN:VEVENT
DTSTART;TZID=America/Los_Angeles:20250529T193000
DTEND;TZID=America/Los_Angeles:20250529T210000
DTSTAMP:20260425T084626
CREATED:20250516T170752Z
LAST-MODIFIED:20250516T170757Z
UID:10000103-1748547000-1748552400@hamazkayinwr.org
SUMMARY:Nigol Aghpalian's 150th Anniversary
DESCRIPTION:
URL:https://hamazkayinwr.org/event/nigol-aghpalians-150th-anniversary/
LOCATION:Pasadena Jivalagian Youth Center\, 2242 E. Foothill Blvd\, Pasadena\, CA\, 91107\, United States
CATEGORIES:Historical Figures,Public Figures
ATTACH;FMTTYPE=image/jpeg:https://hamazkayinwr.org/wp-content/uploads/2025/05/5-29-2025-Pasadena-Flyer-Nigol-Aghpalian-.jpeg
END:VEVENT
BEGIN:VEVENT
DTSTART;TZID=America/Los_Angeles:20250530T190000
DTEND;TZID=America/Los_Angeles:20250530T210000
DTSTAMP:20260425T084626
CREATED:20240613T223638Z
LAST-MODIFIED:20240613T223638Z
UID:10000061-1748631600-1748638800@hamazkayinwr.org
SUMMARY:Acting Workshops
DESCRIPTION:Join our Hamazkayin Theatre Company’s new Acting Workshops!\n\n\n\nWorkshops are every Friday starting on June 14\, 2024 from 7-9pm at Glendale Youth Center (211 W. Chestnut St\, Glendale\, CA).\n\n\n\nNo professional experience required! Workshops are FREE and conducted in Armenian.\n\n\n\nFore more information\, call Shoushig at (714) 403-0875.
URL:https://hamazkayinwr.org/event/acting-workshops/2025-05-30/
LOCATION:Glendale Youth Center\, 211 W. Chestnut St\, Glendale\, CA\, 91204\, United States
CATEGORIES:Theater,Workshops
ATTACH;FMTTYPE=image/png:https://hamazkayinwr.org/wp-content/uploads/2024/06/Hamazkayin-Theater-Workshop-Promo.png
END:VEVENT
BEGIN:VEVENT
DTSTART;TZID=America/Los_Angeles:20250604T190000
DTEND;TZID=America/Los_Angeles:20250604T220000
DTSTAMP:20260425T084626
CREATED:20251016T200542Z
LAST-MODIFIED:20251027T172208Z
UID:10000780-1749063600-1749074400@hamazkayinwr.org
SUMMARY:Sayat Nova Choir Rehearsal
DESCRIPTION:
URL:https://hamazkayinwr.org/event/sayat-nova-choir-rehearsal/2025-06-04/
END:VEVENT
BEGIN:VEVENT
DTSTART;TZID=America/Los_Angeles:20250606T170000
DTEND;TZID=America/Los_Angeles:20250606T190000
DTSTAMP:20260425T084626
CREATED:20251016T195716Z
LAST-MODIFIED:20251016T195721Z
UID:10000667-1749229200-1749236400@hamazkayinwr.org
SUMMARY:Կար ու Ձեւի Դասարան
DESCRIPTION:
URL:https://hamazkayinwr.org/event/%d5%af%d5%a1%d6%80-%d5%b8%d6%82-%d5%b1%d5%a5%d6%82%d5%ab-%d5%a4%d5%a1%d5%bd%d5%a1%d6%80%d5%a1%d5%b6/2025-06-06/
ATTACH;FMTTYPE=image/png:https://hamazkayinwr.org/wp-content/uploads/2025/10/Sewing-Postcard-8.5x11-2025Final-NEW-copy.png
END:VEVENT
BEGIN:VEVENT
DTSTART;TZID=America/Los_Angeles:20250606T190000
DTEND;TZID=America/Los_Angeles:20250606T210000
DTSTAMP:20260425T084626
CREATED:20240613T223638Z
LAST-MODIFIED:20240613T223638Z
UID:10000062-1749236400-1749243600@hamazkayinwr.org
SUMMARY:Acting Workshops
DESCRIPTION:Join our Hamazkayin Theatre Company’s new Acting Workshops!\n\n\n\nWorkshops are every Friday starting on June 14\, 2024 from 7-9pm at Glendale Youth Center (211 W. Chestnut St\, Glendale\, CA).\n\n\n\nNo professional experience required! Workshops are FREE and conducted in Armenian.\n\n\n\nFore more information\, call Shoushig at (714) 403-0875.
URL:https://hamazkayinwr.org/event/acting-workshops/2025-06-06/
LOCATION:Glendale Youth Center\, 211 W. Chestnut St\, Glendale\, CA\, 91204\, United States
CATEGORIES:Theater,Workshops
ATTACH;FMTTYPE=image/png:https://hamazkayinwr.org/wp-content/uploads/2024/06/Hamazkayin-Theater-Workshop-Promo.png
END:VEVENT
BEGIN:VEVENT
DTSTART;TZID=America/Los_Angeles:20250611T190000
DTEND;TZID=America/Los_Angeles:20250611T220000
DTSTAMP:20260425T084626
CREATED:20251016T200542Z
LAST-MODIFIED:20251027T172208Z
UID:10000781-1749668400-1749679200@hamazkayinwr.org
SUMMARY:Sayat Nova Choir Rehearsal
DESCRIPTION:
URL:https://hamazkayinwr.org/event/sayat-nova-choir-rehearsal/2025-06-11/
END:VEVENT
BEGIN:VEVENT
DTSTART;TZID=America/Los_Angeles:20250613T170000
DTEND;TZID=America/Los_Angeles:20250613T190000
DTSTAMP:20260425T084626
CREATED:20251016T195716Z
LAST-MODIFIED:20251016T195721Z
UID:10000668-1749834000-1749841200@hamazkayinwr.org
SUMMARY:Կար ու Ձեւի Դասարան
DESCRIPTION:
URL:https://hamazkayinwr.org/event/%d5%af%d5%a1%d6%80-%d5%b8%d6%82-%d5%b1%d5%a5%d6%82%d5%ab-%d5%a4%d5%a1%d5%bd%d5%a1%d6%80%d5%a1%d5%b6/2025-06-13/
ATTACH;FMTTYPE=image/png:https://hamazkayinwr.org/wp-content/uploads/2025/10/Sewing-Postcard-8.5x11-2025Final-NEW-copy.png
END:VEVENT
BEGIN:VEVENT
DTSTART;TZID=America/Los_Angeles:20250613T190000
DTEND;TZID=America/Los_Angeles:20250613T210000
DTSTAMP:20260425T084626
CREATED:20240613T223638Z
LAST-MODIFIED:20240613T223638Z
UID:10000063-1749841200-1749848400@hamazkayinwr.org
SUMMARY:Acting Workshops
DESCRIPTION:Join our Hamazkayin Theatre Company’s new Acting Workshops!\n\n\n\nWorkshops are every Friday starting on June 14\, 2024 from 7-9pm at Glendale Youth Center (211 W. Chestnut St\, Glendale\, CA).\n\n\n\nNo professional experience required! Workshops are FREE and conducted in Armenian.\n\n\n\nFore more information\, call Shoushig at (714) 403-0875.
URL:https://hamazkayinwr.org/event/acting-workshops/2025-06-13/
LOCATION:Glendale Youth Center\, 211 W. Chestnut St\, Glendale\, CA\, 91204\, United States
CATEGORIES:Theater,Workshops
ATTACH;FMTTYPE=image/png:https://hamazkayinwr.org/wp-content/uploads/2024/06/Hamazkayin-Theater-Workshop-Promo.png
END:VEVENT
BEGIN:VEVENT
DTSTART;TZID=America/Los_Angeles:20250618T190000
DTEND;TZID=America/Los_Angeles:20250618T220000
DTSTAMP:20260425T084626
CREATED:20251016T200542Z
LAST-MODIFIED:20251027T172208Z
UID:10000782-1750273200-1750284000@hamazkayinwr.org
SUMMARY:Sayat Nova Choir Rehearsal
DESCRIPTION:
URL:https://hamazkayinwr.org/event/sayat-nova-choir-rehearsal/2025-06-18/
END:VEVENT
BEGIN:VEVENT
DTSTART;TZID=America/Los_Angeles:20250620T170000
DTEND;TZID=America/Los_Angeles:20250620T190000
DTSTAMP:20260425T084626
CREATED:20251016T195716Z
LAST-MODIFIED:20251016T195721Z
UID:10000669-1750438800-1750446000@hamazkayinwr.org
SUMMARY:Կար ու Ձեւի Դասարան
DESCRIPTION:
URL:https://hamazkayinwr.org/event/%d5%af%d5%a1%d6%80-%d5%b8%d6%82-%d5%b1%d5%a5%d6%82%d5%ab-%d5%a4%d5%a1%d5%bd%d5%a1%d6%80%d5%a1%d5%b6/2025-06-20/
ATTACH;FMTTYPE=image/png:https://hamazkayinwr.org/wp-content/uploads/2025/10/Sewing-Postcard-8.5x11-2025Final-NEW-copy.png
END:VEVENT
BEGIN:VEVENT
DTSTART;TZID=America/Los_Angeles:20250620T190000
DTEND;TZID=America/Los_Angeles:20250620T210000
DTSTAMP:20260425T084626
CREATED:20240613T223638Z
LAST-MODIFIED:20240613T223638Z
UID:10000064-1750446000-1750453200@hamazkayinwr.org
SUMMARY:Acting Workshops
DESCRIPTION:Join our Hamazkayin Theatre Company’s new Acting Workshops!\n\n\n\nWorkshops are every Friday starting on June 14\, 2024 from 7-9pm at Glendale Youth Center (211 W. Chestnut St\, Glendale\, CA).\n\n\n\nNo professional experience required! Workshops are FREE and conducted in Armenian.\n\n\n\nFore more information\, call Shoushig at (714) 403-0875.
URL:https://hamazkayinwr.org/event/acting-workshops/2025-06-20/
LOCATION:Glendale Youth Center\, 211 W. Chestnut St\, Glendale\, CA\, 91204\, United States
CATEGORIES:Theater,Workshops
ATTACH;FMTTYPE=image/png:https://hamazkayinwr.org/wp-content/uploads/2024/06/Hamazkayin-Theater-Workshop-Promo.png
END:VEVENT
BEGIN:VEVENT
DTSTART;TZID=America/Los_Angeles:20250625T190000
DTEND;TZID=America/Los_Angeles:20250625T220000
DTSTAMP:20260425T084626
CREATED:20251016T200542Z
LAST-MODIFIED:20251027T172208Z
UID:10000783-1750878000-1750888800@hamazkayinwr.org
SUMMARY:Sayat Nova Choir Rehearsal
DESCRIPTION:
URL:https://hamazkayinwr.org/event/sayat-nova-choir-rehearsal/2025-06-25/
END:VEVENT
BEGIN:VEVENT
DTSTART;TZID=America/Los_Angeles:20250626T180000
DTEND;TZID=America/Los_Angeles:20250626T220000
DTSTAMP:20260425T084626
CREATED:20250530T155412Z
LAST-MODIFIED:20250530T155500Z
UID:10000104-1750960800-1750975200@hamazkayinwr.org
SUMMARY:Armenian Cultural Arts Mixer
DESCRIPTION:
URL:https://hamazkayinwr.org/event/armenian-cultural-arts-mixer/
LOCATION:Momed LA\, 3245 Casitas Ave.\, Los Angeles\, California\, 90039\, United States
ATTACH;FMTTYPE=image/png:https://hamazkayinwr.org/wp-content/uploads/2025/05/IMG_2502.png
END:VEVENT
BEGIN:VEVENT
DTSTART;TZID=America/Los_Angeles:20250627T170000
DTEND;TZID=America/Los_Angeles:20250627T190000
DTSTAMP:20260425T084626
CREATED:20251016T195716Z
LAST-MODIFIED:20251016T195721Z
UID:10000670-1751043600-1751050800@hamazkayinwr.org
SUMMARY:Կար ու Ձեւի Դասարան
DESCRIPTION:
URL:https://hamazkayinwr.org/event/%d5%af%d5%a1%d6%80-%d5%b8%d6%82-%d5%b1%d5%a5%d6%82%d5%ab-%d5%a4%d5%a1%d5%bd%d5%a1%d6%80%d5%a1%d5%b6/2025-06-27/
ATTACH;FMTTYPE=image/png:https://hamazkayinwr.org/wp-content/uploads/2025/10/Sewing-Postcard-8.5x11-2025Final-NEW-copy.png
END:VEVENT
BEGIN:VEVENT
DTSTART;TZID=America/Los_Angeles:20250627T190000
DTEND;TZID=America/Los_Angeles:20250627T210000
DTSTAMP:20260425T084626
CREATED:20240613T223638Z
LAST-MODIFIED:20240613T223638Z
UID:10000065-1751050800-1751058000@hamazkayinwr.org
SUMMARY:Acting Workshops
DESCRIPTION:Join our Hamazkayin Theatre Company’s new Acting Workshops!\n\n\n\nWorkshops are every Friday starting on June 14\, 2024 from 7-9pm at Glendale Youth Center (211 W. Chestnut St\, Glendale\, CA).\n\n\n\nNo professional experience required! Workshops are FREE and conducted in Armenian.\n\n\n\nFore more information\, call Shoushig at (714) 403-0875.
URL:https://hamazkayinwr.org/event/acting-workshops/2025-06-27/
LOCATION:Glendale Youth Center\, 211 W. Chestnut St\, Glendale\, CA\, 91204\, United States
CATEGORIES:Theater,Workshops
ATTACH;FMTTYPE=image/png:https://hamazkayinwr.org/wp-content/uploads/2024/06/Hamazkayin-Theater-Workshop-Promo.png
END:VEVENT
BEGIN:VEVENT
DTSTART;TZID=America/Los_Angeles:20250702T190000
DTEND;TZID=America/Los_Angeles:20250702T220000
DTSTAMP:20260425T084626
CREATED:20251016T200542Z
LAST-MODIFIED:20251027T172208Z
UID:10000784-1751482800-1751493600@hamazkayinwr.org
SUMMARY:Sayat Nova Choir Rehearsal
DESCRIPTION:
URL:https://hamazkayinwr.org/event/sayat-nova-choir-rehearsal/2025-07-02/
END:VEVENT
BEGIN:VEVENT
DTSTART;TZID=America/Los_Angeles:20250704T170000
DTEND;TZID=America/Los_Angeles:20250704T190000
DTSTAMP:20260425T084626
CREATED:20251016T195716Z
LAST-MODIFIED:20251016T195721Z
UID:10000671-1751648400-1751655600@hamazkayinwr.org
SUMMARY:Կար ու Ձեւի Դասարան
DESCRIPTION:
URL:https://hamazkayinwr.org/event/%d5%af%d5%a1%d6%80-%d5%b8%d6%82-%d5%b1%d5%a5%d6%82%d5%ab-%d5%a4%d5%a1%d5%bd%d5%a1%d6%80%d5%a1%d5%b6/2025-07-04/
ATTACH;FMTTYPE=image/png:https://hamazkayinwr.org/wp-content/uploads/2025/10/Sewing-Postcard-8.5x11-2025Final-NEW-copy.png
END:VEVENT
BEGIN:VEVENT
DTSTART;TZID=America/Los_Angeles:20250704T190000
DTEND;TZID=America/Los_Angeles:20250704T210000
DTSTAMP:20260425T084626
CREATED:20240613T223638Z
LAST-MODIFIED:20240613T223638Z
UID:10000066-1751655600-1751662800@hamazkayinwr.org
SUMMARY:Acting Workshops
DESCRIPTION:Join our Hamazkayin Theatre Company’s new Acting Workshops!\n\n\n\nWorkshops are every Friday starting on June 14\, 2024 from 7-9pm at Glendale Youth Center (211 W. Chestnut St\, Glendale\, CA).\n\n\n\nNo professional experience required! Workshops are FREE and conducted in Armenian.\n\n\n\nFore more information\, call Shoushig at (714) 403-0875.
URL:https://hamazkayinwr.org/event/acting-workshops/2025-07-04/
LOCATION:Glendale Youth Center\, 211 W. Chestnut St\, Glendale\, CA\, 91204\, United States
CATEGORIES:Theater,Workshops
ATTACH;FMTTYPE=image/png:https://hamazkayinwr.org/wp-content/uploads/2024/06/Hamazkayin-Theater-Workshop-Promo.png
END:VEVENT
BEGIN:VEVENT
DTSTART;TZID=America/Los_Angeles:20250709T190000
DTEND;TZID=America/Los_Angeles:20250709T220000
DTSTAMP:20260425T084626
CREATED:20251016T200542Z
LAST-MODIFIED:20251027T172208Z
UID:10000785-1752087600-1752098400@hamazkayinwr.org
SUMMARY:Sayat Nova Choir Rehearsal
DESCRIPTION:
URL:https://hamazkayinwr.org/event/sayat-nova-choir-rehearsal/2025-07-09/
END:VEVENT
BEGIN:VEVENT
DTSTART;TZID=America/Los_Angeles:20250711T170000
DTEND;TZID=America/Los_Angeles:20250711T190000
DTSTAMP:20260425T084626
CREATED:20251016T195716Z
LAST-MODIFIED:20251016T195721Z
UID:10000672-1752253200-1752260400@hamazkayinwr.org
SUMMARY:Կար ու Ձեւի Դասարան
DESCRIPTION:
URL:https://hamazkayinwr.org/event/%d5%af%d5%a1%d6%80-%d5%b8%d6%82-%d5%b1%d5%a5%d6%82%d5%ab-%d5%a4%d5%a1%d5%bd%d5%a1%d6%80%d5%a1%d5%b6/2025-07-11/
ATTACH;FMTTYPE=image/png:https://hamazkayinwr.org/wp-content/uploads/2025/10/Sewing-Postcard-8.5x11-2025Final-NEW-copy.png
END:VEVENT
BEGIN:VEVENT
DTSTART;TZID=America/Los_Angeles:20250711T190000
DTEND;TZID=America/Los_Angeles:20250711T210000
DTSTAMP:20260425T084626
CREATED:20240613T223638Z
LAST-MODIFIED:20240613T223638Z
UID:10000067-1752260400-1752267600@hamazkayinwr.org
SUMMARY:Acting Workshops
DESCRIPTION:Join our Hamazkayin Theatre Company’s new Acting Workshops!\n\n\n\nWorkshops are every Friday starting on June 14\, 2024 from 7-9pm at Glendale Youth Center (211 W. Chestnut St\, Glendale\, CA).\n\n\n\nNo professional experience required! Workshops are FREE and conducted in Armenian.\n\n\n\nFore more information\, call Shoushig at (714) 403-0875.
URL:https://hamazkayinwr.org/event/acting-workshops/2025-07-11/
LOCATION:Glendale Youth Center\, 211 W. Chestnut St\, Glendale\, CA\, 91204\, United States
CATEGORIES:Theater,Workshops
ATTACH;FMTTYPE=image/png:https://hamazkayinwr.org/wp-content/uploads/2024/06/Hamazkayin-Theater-Workshop-Promo.png
END:VEVENT
BEGIN:VEVENT
DTSTART;TZID=America/Los_Angeles:20250716T190000
DTEND;TZID=America/Los_Angeles:20250716T220000
DTSTAMP:20260425T084626
CREATED:20251016T200542Z
LAST-MODIFIED:20251027T172208Z
UID:10000786-1752692400-1752703200@hamazkayinwr.org
SUMMARY:Sayat Nova Choir Rehearsal
DESCRIPTION:
URL:https://hamazkayinwr.org/event/sayat-nova-choir-rehearsal/2025-07-16/
END:VEVENT
BEGIN:VEVENT
DTSTART;TZID=America/Los_Angeles:20250718T170000
DTEND;TZID=America/Los_Angeles:20250718T190000
DTSTAMP:20260425T084626
CREATED:20251016T195716Z
LAST-MODIFIED:20251016T195721Z
UID:10000673-1752858000-1752865200@hamazkayinwr.org
SUMMARY:Կար ու Ձեւի Դասարան
DESCRIPTION:
URL:https://hamazkayinwr.org/event/%d5%af%d5%a1%d6%80-%d5%b8%d6%82-%d5%b1%d5%a5%d6%82%d5%ab-%d5%a4%d5%a1%d5%bd%d5%a1%d6%80%d5%a1%d5%b6/2025-07-18/
ATTACH;FMTTYPE=image/png:https://hamazkayinwr.org/wp-content/uploads/2025/10/Sewing-Postcard-8.5x11-2025Final-NEW-copy.png
END:VEVENT
BEGIN:VEVENT
DTSTART;TZID=America/Los_Angeles:20250718T190000
DTEND;TZID=America/Los_Angeles:20250718T210000
DTSTAMP:20260425T084626
CREATED:20240613T223638Z
LAST-MODIFIED:20240613T223638Z
UID:10000068-1752865200-1752872400@hamazkayinwr.org
SUMMARY:Acting Workshops
DESCRIPTION:Join our Hamazkayin Theatre Company’s new Acting Workshops!\n\n\n\nWorkshops are every Friday starting on June 14\, 2024 from 7-9pm at Glendale Youth Center (211 W. Chestnut St\, Glendale\, CA).\n\n\n\nNo professional experience required! Workshops are FREE and conducted in Armenian.\n\n\n\nFore more information\, call Shoushig at (714) 403-0875.
URL:https://hamazkayinwr.org/event/acting-workshops/2025-07-18/
LOCATION:Glendale Youth Center\, 211 W. Chestnut St\, Glendale\, CA\, 91204\, United States
CATEGORIES:Theater,Workshops
ATTACH;FMTTYPE=image/png:https://hamazkayinwr.org/wp-content/uploads/2024/06/Hamazkayin-Theater-Workshop-Promo.png
END:VEVENT
BEGIN:VEVENT
DTSTART;TZID=America/Los_Angeles:20250723T190000
DTEND;TZID=America/Los_Angeles:20250723T220000
DTSTAMP:20260425T084626
CREATED:20251016T200542Z
LAST-MODIFIED:20251027T172208Z
UID:10000787-1753297200-1753308000@hamazkayinwr.org
SUMMARY:Sayat Nova Choir Rehearsal
DESCRIPTION:
URL:https://hamazkayinwr.org/event/sayat-nova-choir-rehearsal/2025-07-23/
END:VEVENT
BEGIN:VEVENT
DTSTART;TZID=America/Los_Angeles:20250725T170000
DTEND;TZID=America/Los_Angeles:20250725T190000
DTSTAMP:20260425T084626
CREATED:20251016T195716Z
LAST-MODIFIED:20251016T195721Z
UID:10000674-1753462800-1753470000@hamazkayinwr.org
SUMMARY:Կար ու Ձեւի Դասարան
DESCRIPTION:
URL:https://hamazkayinwr.org/event/%d5%af%d5%a1%d6%80-%d5%b8%d6%82-%d5%b1%d5%a5%d6%82%d5%ab-%d5%a4%d5%a1%d5%bd%d5%a1%d6%80%d5%a1%d5%b6/2025-07-25/
ATTACH;FMTTYPE=image/png:https://hamazkayinwr.org/wp-content/uploads/2025/10/Sewing-Postcard-8.5x11-2025Final-NEW-copy.png
END:VEVENT
END:VCALENDAR