BEGIN:VCALENDAR
VERSION:2.0
PRODID:-//Hamazkayin Western USA - ECPv6.15.20//NONSGML v1.0//EN
CALSCALE:GREGORIAN
METHOD:PUBLISH
X-WR-CALNAME:Hamazkayin Western USA
X-ORIGINAL-URL:https://hamazkayinwr.org
X-WR-CALDESC:Events for Hamazkayin Western USA
REFRESH-INTERVAL;VALUE=DURATION:PT1H
X-Robots-Tag:noindex
X-PUBLISHED-TTL:PT1H
BEGIN:VTIMEZONE
TZID:America/Los_Angeles
BEGIN:DAYLIGHT
TZOFFSETFROM:-0800
TZOFFSETTO:-0700
TZNAME:PDT
DTSTART:20230312T100000
END:DAYLIGHT
BEGIN:STANDARD
TZOFFSETFROM:-0700
TZOFFSETTO:-0800
TZNAME:PST
DTSTART:20231105T090000
END:STANDARD
BEGIN:DAYLIGHT
TZOFFSETFROM:-0800
TZOFFSETTO:-0700
TZNAME:PDT
DTSTART:20240310T100000
END:DAYLIGHT
BEGIN:STANDARD
TZOFFSETFROM:-0700
TZOFFSETTO:-0800
TZNAME:PST
DTSTART:20241103T090000
END:STANDARD
BEGIN:DAYLIGHT
TZOFFSETFROM:-0800
TZOFFSETTO:-0700
TZNAME:PDT
DTSTART:20250309T100000
END:DAYLIGHT
BEGIN:STANDARD
TZOFFSETFROM:-0700
TZOFFSETTO:-0800
TZNAME:PST
DTSTART:20251102T090000
END:STANDARD
END:VTIMEZONE
BEGIN:VEVENT
DTSTART;TZID=America/Los_Angeles:20241011T190000
DTEND;TZID=America/Los_Angeles:20241011T210000
DTSTAMP:20260425T090853
CREATED:20240613T223638Z
LAST-MODIFIED:20240613T223638Z
UID:10000028-1728673200-1728680400@hamazkayinwr.org
SUMMARY:Acting Workshops
DESCRIPTION:Join our Hamazkayin Theatre Company’s new Acting Workshops!\n\n\n\nWorkshops are every Friday starting on June 14\, 2024 from 7-9pm at Glendale Youth Center (211 W. Chestnut St\, Glendale\, CA).\n\n\n\nNo professional experience required! Workshops are FREE and conducted in Armenian.\n\n\n\nFore more information\, call Shoushig at (714) 403-0875.
URL:https://hamazkayinwr.org/event/acting-workshops/2024-10-11/
LOCATION:Glendale Youth Center\, 211 W. Chestnut St\, Glendale\, CA\, 91204\, United States
CATEGORIES:Theater,Workshops
ATTACH;FMTTYPE=image/png:https://hamazkayinwr.org/wp-content/uploads/2024/06/Hamazkayin-Theater-Workshop-Promo.png
END:VEVENT
BEGIN:VEVENT
DTSTART;TZID=America/Los_Angeles:20241004T190000
DTEND;TZID=America/Los_Angeles:20241004T210000
DTSTAMP:20260425T090853
CREATED:20240613T223638Z
LAST-MODIFIED:20240613T223638Z
UID:10000027-1728068400-1728075600@hamazkayinwr.org
SUMMARY:Acting Workshops
DESCRIPTION:Join our Hamazkayin Theatre Company’s new Acting Workshops!\n\n\n\nWorkshops are every Friday starting on June 14\, 2024 from 7-9pm at Glendale Youth Center (211 W. Chestnut St\, Glendale\, CA).\n\n\n\nNo professional experience required! Workshops are FREE and conducted in Armenian.\n\n\n\nFore more information\, call Shoushig at (714) 403-0875.
URL:https://hamazkayinwr.org/event/acting-workshops/2024-10-04/
LOCATION:Glendale Youth Center\, 211 W. Chestnut St\, Glendale\, CA\, 91204\, United States
CATEGORIES:Theater,Workshops
ATTACH;FMTTYPE=image/png:https://hamazkayinwr.org/wp-content/uploads/2024/06/Hamazkayin-Theater-Workshop-Promo.png
END:VEVENT
BEGIN:VEVENT
DTSTART;TZID=America/Los_Angeles:20240927T190000
DTEND;TZID=America/Los_Angeles:20240927T220000
DTSTAMP:20260425T090853
CREATED:20240805T225734Z
LAST-MODIFIED:20240805T231631Z
UID:10000096-1727463600-1727474400@hamazkayinwr.org
SUMMARY:Song & Dance Evening ft. Lernazang Ensemble
DESCRIPTION:
URL:https://hamazkayinwr.org/event/montebello-song-and-dance-lernazang/
LOCATION:Montebello Armenian Center\, 410 Washington Blvd\, Montebello\, California\, 90640\, United States
CATEGORIES:Dance,Music
ATTACH;FMTTYPE=image/jpeg:https://hamazkayinwr.org/wp-content/uploads/2024/08/Montebello-Song-and-Dance-Evening-with-Lernazang.jpg
END:VEVENT
BEGIN:VEVENT
DTSTART;TZID=America/Los_Angeles:20240927T190000
DTEND;TZID=America/Los_Angeles:20240927T210000
DTSTAMP:20260425T090853
CREATED:20240613T223638Z
LAST-MODIFIED:20240613T223638Z
UID:10000026-1727463600-1727470800@hamazkayinwr.org
SUMMARY:Acting Workshops
DESCRIPTION:Join our Hamazkayin Theatre Company’s new Acting Workshops!\n\n\n\nWorkshops are every Friday starting on June 14\, 2024 from 7-9pm at Glendale Youth Center (211 W. Chestnut St\, Glendale\, CA).\n\n\n\nNo professional experience required! Workshops are FREE and conducted in Armenian.\n\n\n\nFore more information\, call Shoushig at (714) 403-0875.
URL:https://hamazkayinwr.org/event/acting-workshops/2024-09-27/
LOCATION:Glendale Youth Center\, 211 W. Chestnut St\, Glendale\, CA\, 91204\, United States
CATEGORIES:Theater,Workshops
ATTACH;FMTTYPE=image/png:https://hamazkayinwr.org/wp-content/uploads/2024/06/Hamazkayin-Theater-Workshop-Promo.png
END:VEVENT
BEGIN:VEVENT
DTSTART;TZID=America/Los_Angeles:20240920T190000
DTEND;TZID=America/Los_Angeles:20240920T210000
DTSTAMP:20260425T090853
CREATED:20240613T223638Z
LAST-MODIFIED:20240613T223638Z
UID:10000025-1726858800-1726866000@hamazkayinwr.org
SUMMARY:Acting Workshops
DESCRIPTION:Join our Hamazkayin Theatre Company’s new Acting Workshops!\n\n\n\nWorkshops are every Friday starting on June 14\, 2024 from 7-9pm at Glendale Youth Center (211 W. Chestnut St\, Glendale\, CA).\n\n\n\nNo professional experience required! Workshops are FREE and conducted in Armenian.\n\n\n\nFore more information\, call Shoushig at (714) 403-0875.
URL:https://hamazkayinwr.org/event/acting-workshops/2024-09-20/
LOCATION:Glendale Youth Center\, 211 W. Chestnut St\, Glendale\, CA\, 91204\, United States
CATEGORIES:Theater,Workshops
ATTACH;FMTTYPE=image/png:https://hamazkayinwr.org/wp-content/uploads/2024/06/Hamazkayin-Theater-Workshop-Promo.png
END:VEVENT
BEGIN:VEVENT
DTSTART;TZID=America/Los_Angeles:20240913T190000
DTEND;TZID=America/Los_Angeles:20240913T210000
DTSTAMP:20260425T090853
CREATED:20240613T223638Z
LAST-MODIFIED:20240613T223638Z
UID:10000024-1726254000-1726261200@hamazkayinwr.org
SUMMARY:Acting Workshops
DESCRIPTION:Join our Hamazkayin Theatre Company’s new Acting Workshops!\n\n\n\nWorkshops are every Friday starting on June 14\, 2024 from 7-9pm at Glendale Youth Center (211 W. Chestnut St\, Glendale\, CA).\n\n\n\nNo professional experience required! Workshops are FREE and conducted in Armenian.\n\n\n\nFore more information\, call Shoushig at (714) 403-0875.
URL:https://hamazkayinwr.org/event/acting-workshops/2024-09-13/
LOCATION:Glendale Youth Center\, 211 W. Chestnut St\, Glendale\, CA\, 91204\, United States
CATEGORIES:Theater,Workshops
ATTACH;FMTTYPE=image/png:https://hamazkayinwr.org/wp-content/uploads/2024/06/Hamazkayin-Theater-Workshop-Promo.png
END:VEVENT
BEGIN:VEVENT
DTSTART;TZID=America/Los_Angeles:20240912T190000
DTEND;TZID=America/Los_Angeles:20240912T210000
DTSTAMP:20260425T090853
CREATED:20240812T221249Z
LAST-MODIFIED:20240812T223624Z
UID:10000098-1726167600-1726174800@hamazkayinwr.org
SUMMARY:Music Under the Stars with Lucy Khanyan Quartet
DESCRIPTION:
URL:https://hamazkayinwr.org/event/music-under-the-stars-with-lucy-khanyan-quartet/
LOCATION:Keush Ranch\, 9653 Tujunga Canyon Blvd\, Tujunga\, California\, 91042\, United States
ATTACH;FMTTYPE=image/jpeg:https://hamazkayinwr.org/wp-content/uploads/2024/08/Lucy-Khanyan-Music-Committee-Event-Poster.jpg
END:VEVENT
BEGIN:VEVENT
DTSTART;TZID=America/Los_Angeles:20240906T190000
DTEND;TZID=America/Los_Angeles:20240906T210000
DTSTAMP:20260425T090853
CREATED:20240613T223638Z
LAST-MODIFIED:20240613T223638Z
UID:10000023-1725649200-1725656400@hamazkayinwr.org
SUMMARY:Acting Workshops
DESCRIPTION:Join our Hamazkayin Theatre Company’s new Acting Workshops!\n\n\n\nWorkshops are every Friday starting on June 14\, 2024 from 7-9pm at Glendale Youth Center (211 W. Chestnut St\, Glendale\, CA).\n\n\n\nNo professional experience required! Workshops are FREE and conducted in Armenian.\n\n\n\nFore more information\, call Shoushig at (714) 403-0875.
URL:https://hamazkayinwr.org/event/acting-workshops/2024-09-06/
LOCATION:Glendale Youth Center\, 211 W. Chestnut St\, Glendale\, CA\, 91204\, United States
CATEGORIES:Theater,Workshops
ATTACH;FMTTYPE=image/png:https://hamazkayinwr.org/wp-content/uploads/2024/06/Hamazkayin-Theater-Workshop-Promo.png
END:VEVENT
BEGIN:VEVENT
DTSTART;TZID=America/Los_Angeles:20240830T190000
DTEND;TZID=America/Los_Angeles:20240830T210000
DTSTAMP:20260425T090853
CREATED:20240613T223638Z
LAST-MODIFIED:20240613T223638Z
UID:10000022-1725044400-1725051600@hamazkayinwr.org
SUMMARY:Acting Workshops
DESCRIPTION:Join our Hamazkayin Theatre Company’s new Acting Workshops!\n\n\n\nWorkshops are every Friday starting on June 14\, 2024 from 7-9pm at Glendale Youth Center (211 W. Chestnut St\, Glendale\, CA).\n\n\n\nNo professional experience required! Workshops are FREE and conducted in Armenian.\n\n\n\nFore more information\, call Shoushig at (714) 403-0875.
URL:https://hamazkayinwr.org/event/acting-workshops/2024-08-30/
LOCATION:Glendale Youth Center\, 211 W. Chestnut St\, Glendale\, CA\, 91204\, United States
CATEGORIES:Theater,Workshops
ATTACH;FMTTYPE=image/png:https://hamazkayinwr.org/wp-content/uploads/2024/06/Hamazkayin-Theater-Workshop-Promo.png
END:VEVENT
BEGIN:VEVENT
DTSTART;TZID=America/Los_Angeles:20240823T190000
DTEND;TZID=America/Los_Angeles:20240823T210000
DTSTAMP:20260425T090853
CREATED:20240613T223638Z
LAST-MODIFIED:20240613T223638Z
UID:10000021-1724439600-1724446800@hamazkayinwr.org
SUMMARY:Acting Workshops
DESCRIPTION:Join our Hamazkayin Theatre Company’s new Acting Workshops!\n\n\n\nWorkshops are every Friday starting on June 14\, 2024 from 7-9pm at Glendale Youth Center (211 W. Chestnut St\, Glendale\, CA).\n\n\n\nNo professional experience required! Workshops are FREE and conducted in Armenian.\n\n\n\nFore more information\, call Shoushig at (714) 403-0875.
URL:https://hamazkayinwr.org/event/acting-workshops/2024-08-23/
LOCATION:Glendale Youth Center\, 211 W. Chestnut St\, Glendale\, CA\, 91204\, United States
CATEGORIES:Theater,Workshops
ATTACH;FMTTYPE=image/png:https://hamazkayinwr.org/wp-content/uploads/2024/06/Hamazkayin-Theater-Workshop-Promo.png
END:VEVENT
BEGIN:VEVENT
DTSTART;TZID=America/Los_Angeles:20240822T193000
DTEND;TZID=America/Los_Angeles:20240822T213000
DTSTAMP:20260425T090853
CREATED:20240802T013125Z
LAST-MODIFIED:20240802T035430Z
UID:10000095-1724355000-1724362200@hamazkayinwr.org
SUMMARY:«Անկրկնելի Հալէպը» Book Presentation
DESCRIPTION:
URL:https://hamazkayinwr.org/event/haleb-book-2024/
LOCATION:Pasadena Jivalagian Youth Center\, 2242 E. Foothill Blvd\, Pasadena\, CA\, 91107\, United States
CATEGORIES:Book Presentation,Literature
ATTACH;FMTTYPE=image/png:https://hamazkayinwr.org/wp-content/uploads/2024/08/Անկրկնելի-Հալէպը-poster.png
END:VEVENT
BEGIN:VEVENT
DTSTART;TZID=America/Los_Angeles:20240818T130000
DTEND;TZID=America/Los_Angeles:20240818T190000
DTSTAMP:20260425T090853
CREATED:20240805T233017Z
LAST-MODIFIED:20240805T233020Z
UID:10000097-1723986000-1724007600@hamazkayinwr.org
SUMMARY:Pasadena Summer Picnic
DESCRIPTION:
URL:https://hamazkayinwr.org/event/pasadena-picnic-august-18-2024/
LOCATION:Hamilton Park\, 3680 Cartwright St\, Pasadena\, California\, 91107\, United States
CATEGORIES:Picnic
ATTACH;FMTTYPE=image/png:https://hamazkayinwr.org/wp-content/uploads/2024/08/Hamazkayin-Pasadena-BBQ-August-18-2024-English.png
END:VEVENT
BEGIN:VEVENT
DTSTART;TZID=America/Los_Angeles:20240816T190000
DTEND;TZID=America/Los_Angeles:20240816T210000
DTSTAMP:20260425T090853
CREATED:20240613T223638Z
LAST-MODIFIED:20240613T223638Z
UID:10000020-1723834800-1723842000@hamazkayinwr.org
SUMMARY:Acting Workshops
DESCRIPTION:Join our Hamazkayin Theatre Company’s new Acting Workshops!\n\n\n\nWorkshops are every Friday starting on June 14\, 2024 from 7-9pm at Glendale Youth Center (211 W. Chestnut St\, Glendale\, CA).\n\n\n\nNo professional experience required! Workshops are FREE and conducted in Armenian.\n\n\n\nFore more information\, call Shoushig at (714) 403-0875.
URL:https://hamazkayinwr.org/event/acting-workshops/2024-08-16/
LOCATION:Glendale Youth Center\, 211 W. Chestnut St\, Glendale\, CA\, 91204\, United States
CATEGORIES:Theater,Workshops
ATTACH;FMTTYPE=image/png:https://hamazkayinwr.org/wp-content/uploads/2024/06/Hamazkayin-Theater-Workshop-Promo.png
END:VEVENT
BEGIN:VEVENT
DTSTART;TZID=America/Los_Angeles:20240809T190000
DTEND;TZID=America/Los_Angeles:20240809T210000
DTSTAMP:20260425T090853
CREATED:20240613T223638Z
LAST-MODIFIED:20240613T223638Z
UID:10000019-1723230000-1723237200@hamazkayinwr.org
SUMMARY:Acting Workshops
DESCRIPTION:Join our Hamazkayin Theatre Company’s new Acting Workshops!\n\n\n\nWorkshops are every Friday starting on June 14\, 2024 from 7-9pm at Glendale Youth Center (211 W. Chestnut St\, Glendale\, CA).\n\n\n\nNo professional experience required! Workshops are FREE and conducted in Armenian.\n\n\n\nFore more information\, call Shoushig at (714) 403-0875.
URL:https://hamazkayinwr.org/event/acting-workshops/2024-08-09/
LOCATION:Glendale Youth Center\, 211 W. Chestnut St\, Glendale\, CA\, 91204\, United States
CATEGORIES:Theater,Workshops
ATTACH;FMTTYPE=image/png:https://hamazkayinwr.org/wp-content/uploads/2024/06/Hamazkayin-Theater-Workshop-Promo.png
END:VEVENT
BEGIN:VEVENT
DTSTART;TZID=America/Los_Angeles:20240809T180000
DTEND;TZID=America/Los_Angeles:20240809T200000
DTSTAMP:20260425T090853
CREATED:20240712T060110Z
LAST-MODIFIED:20240712T060110Z
UID:10000093-1723226400-1723233600@hamazkayinwr.org
SUMMARY:Armenian Needlelace: Poetry in Thread Exhibit Opening
DESCRIPTION:
URL:https://hamazkayinwr.org/event/armenian-needlelace-poetry-in-thread-exhibit-opening/
LOCATION:Lacis Museum of Lace and Textiles\, 2982 Adeline St\, Berkeley\, CA\, 94703\, United States
CATEGORIES:Exhibit,Museum
ATTACH;FMTTYPE=image/jpeg:https://hamazkayinwr.org/wp-content/uploads/2024/07/Nigol-Aghpalian-Needlelace-2024.jpg
END:VEVENT
BEGIN:VEVENT
DTSTART;TZID=America/Los_Angeles:20240802T190000
DTEND;TZID=America/Los_Angeles:20240802T210000
DTSTAMP:20260425T090853
CREATED:20240613T223638Z
LAST-MODIFIED:20240613T223638Z
UID:10000018-1722625200-1722632400@hamazkayinwr.org
SUMMARY:Acting Workshops
DESCRIPTION:Join our Hamazkayin Theatre Company’s new Acting Workshops!\n\n\n\nWorkshops are every Friday starting on June 14\, 2024 from 7-9pm at Glendale Youth Center (211 W. Chestnut St\, Glendale\, CA).\n\n\n\nNo professional experience required! Workshops are FREE and conducted in Armenian.\n\n\n\nFore more information\, call Shoushig at (714) 403-0875.
URL:https://hamazkayinwr.org/event/acting-workshops/2024-08-02/
LOCATION:Glendale Youth Center\, 211 W. Chestnut St\, Glendale\, CA\, 91204\, United States
CATEGORIES:Theater,Workshops
ATTACH;FMTTYPE=image/png:https://hamazkayinwr.org/wp-content/uploads/2024/06/Hamazkayin-Theater-Workshop-Promo.png
END:VEVENT
BEGIN:VEVENT
DTSTART;TZID=America/Los_Angeles:20240730T200000
DTEND;TZID=America/Los_Angeles:20240730T230000
DTSTAMP:20260425T090853
CREATED:20240712T055715Z
LAST-MODIFIED:20240712T055715Z
UID:10000092-1722369600-1722380400@hamazkayinwr.org
SUMMARY:Khachaturian & Stravinsky at the Hollywood Bowl
DESCRIPTION:For tickets call: \n\n(818) 642-3187\n(323) 216-1952
URL:https://hamazkayinwr.org/event/khachaturian-stravinsky-at-the-hollywood-bowl/
LOCATION:Hollywood Bowl\, 2301 Highland Ave\, Los Angeles\, CA\, 90068\, United States
CATEGORIES:Concert,Music
ATTACH;FMTTYPE=image/jpeg:https://hamazkayinwr.org/wp-content/uploads/2024/07/Baruyr-Sevag-Hollywood-Bowl-2024.jpg
END:VEVENT
BEGIN:VEVENT
DTSTART;TZID=America/Los_Angeles:20240726T190000
DTEND;TZID=America/Los_Angeles:20240726T210000
DTSTAMP:20260425T090853
CREATED:20240613T223638Z
LAST-MODIFIED:20240613T223638Z
UID:10000017-1722020400-1722027600@hamazkayinwr.org
SUMMARY:Acting Workshops
DESCRIPTION:Join our Hamazkayin Theatre Company’s new Acting Workshops!\n\n\n\nWorkshops are every Friday starting on June 14\, 2024 from 7-9pm at Glendale Youth Center (211 W. Chestnut St\, Glendale\, CA).\n\n\n\nNo professional experience required! Workshops are FREE and conducted in Armenian.\n\n\n\nFore more information\, call Shoushig at (714) 403-0875.
URL:https://hamazkayinwr.org/event/acting-workshops/2024-07-26/
LOCATION:Glendale Youth Center\, 211 W. Chestnut St\, Glendale\, CA\, 91204\, United States
CATEGORIES:Theater,Workshops
ATTACH;FMTTYPE=image/png:https://hamazkayinwr.org/wp-content/uploads/2024/06/Hamazkayin-Theater-Workshop-Promo.png
END:VEVENT
BEGIN:VEVENT
DTSTART;TZID=America/Los_Angeles:20240719T190000
DTEND;TZID=America/Los_Angeles:20240719T210000
DTSTAMP:20260425T090853
CREATED:20240613T223638Z
LAST-MODIFIED:20240613T223638Z
UID:10000016-1721415600-1721422800@hamazkayinwr.org
SUMMARY:Acting Workshops
DESCRIPTION:Join our Hamazkayin Theatre Company’s new Acting Workshops!\n\n\n\nWorkshops are every Friday starting on June 14\, 2024 from 7-9pm at Glendale Youth Center (211 W. Chestnut St\, Glendale\, CA).\n\n\n\nNo professional experience required! Workshops are FREE and conducted in Armenian.\n\n\n\nFore more information\, call Shoushig at (714) 403-0875.
URL:https://hamazkayinwr.org/event/acting-workshops/2024-07-19/
LOCATION:Glendale Youth Center\, 211 W. Chestnut St\, Glendale\, CA\, 91204\, United States
CATEGORIES:Theater,Workshops
ATTACH;FMTTYPE=image/png:https://hamazkayinwr.org/wp-content/uploads/2024/06/Hamazkayin-Theater-Workshop-Promo.png
END:VEVENT
BEGIN:VEVENT
DTSTART;TZID=America/Los_Angeles:20240712T190000
DTEND;TZID=America/Los_Angeles:20240712T210000
DTSTAMP:20260425T090853
CREATED:20240613T223638Z
LAST-MODIFIED:20240613T223638Z
UID:10000015-1720810800-1720818000@hamazkayinwr.org
SUMMARY:Acting Workshops
DESCRIPTION:Join our Hamazkayin Theatre Company’s new Acting Workshops!\n\n\n\nWorkshops are every Friday starting on June 14\, 2024 from 7-9pm at Glendale Youth Center (211 W. Chestnut St\, Glendale\, CA).\n\n\n\nNo professional experience required! Workshops are FREE and conducted in Armenian.\n\n\n\nFore more information\, call Shoushig at (714) 403-0875.
URL:https://hamazkayinwr.org/event/acting-workshops/2024-07-12/
LOCATION:Glendale Youth Center\, 211 W. Chestnut St\, Glendale\, CA\, 91204\, United States
CATEGORIES:Theater,Workshops
ATTACH;FMTTYPE=image/png:https://hamazkayinwr.org/wp-content/uploads/2024/06/Hamazkayin-Theater-Workshop-Promo.png
END:VEVENT
BEGIN:VEVENT
DTSTART;TZID=America/Los_Angeles:20240705T190000
DTEND;TZID=America/Los_Angeles:20240705T210000
DTSTAMP:20260425T090853
CREATED:20240613T223638Z
LAST-MODIFIED:20240613T223638Z
UID:10000014-1720206000-1720213200@hamazkayinwr.org
SUMMARY:Acting Workshops
DESCRIPTION:Join our Hamazkayin Theatre Company’s new Acting Workshops!\n\n\n\nWorkshops are every Friday starting on June 14\, 2024 from 7-9pm at Glendale Youth Center (211 W. Chestnut St\, Glendale\, CA).\n\n\n\nNo professional experience required! Workshops are FREE and conducted in Armenian.\n\n\n\nFore more information\, call Shoushig at (714) 403-0875.
URL:https://hamazkayinwr.org/event/acting-workshops/2024-07-05/
LOCATION:Glendale Youth Center\, 211 W. Chestnut St\, Glendale\, CA\, 91204\, United States
CATEGORIES:Theater,Workshops
ATTACH;FMTTYPE=image/png:https://hamazkayinwr.org/wp-content/uploads/2024/06/Hamazkayin-Theater-Workshop-Promo.png
END:VEVENT
BEGIN:VEVENT
DTSTART;TZID=America/Los_Angeles:20240628T190000
DTEND;TZID=America/Los_Angeles:20240628T210000
DTSTAMP:20260425T090853
CREATED:20240613T223638Z
LAST-MODIFIED:20240613T223638Z
UID:10000013-1719601200-1719608400@hamazkayinwr.org
SUMMARY:Acting Workshops
DESCRIPTION:Join our Hamazkayin Theatre Company’s new Acting Workshops!\n\n\n\nWorkshops are every Friday starting on June 14\, 2024 from 7-9pm at Glendale Youth Center (211 W. Chestnut St\, Glendale\, CA).\n\n\n\nNo professional experience required! Workshops are FREE and conducted in Armenian.\n\n\n\nFore more information\, call Shoushig at (714) 403-0875.
URL:https://hamazkayinwr.org/event/acting-workshops/2024-06-28/
LOCATION:Glendale Youth Center\, 211 W. Chestnut St\, Glendale\, CA\, 91204\, United States
CATEGORIES:Theater,Workshops
ATTACH;FMTTYPE=image/png:https://hamazkayinwr.org/wp-content/uploads/2024/06/Hamazkayin-Theater-Workshop-Promo.png
END:VEVENT
BEGIN:VEVENT
DTSTART;TZID=America/Los_Angeles:20240621T190000
DTEND;TZID=America/Los_Angeles:20240621T210000
DTSTAMP:20260425T090853
CREATED:20240613T223638Z
LAST-MODIFIED:20240613T223638Z
UID:10000012-1718996400-1719003600@hamazkayinwr.org
SUMMARY:Acting Workshops
DESCRIPTION:Join our Hamazkayin Theatre Company’s new Acting Workshops!\n\n\n\nWorkshops are every Friday starting on June 14\, 2024 from 7-9pm at Glendale Youth Center (211 W. Chestnut St\, Glendale\, CA).\n\n\n\nNo professional experience required! Workshops are FREE and conducted in Armenian.\n\n\n\nFore more information\, call Shoushig at (714) 403-0875.
URL:https://hamazkayinwr.org/event/acting-workshops/2024-06-21/
LOCATION:Glendale Youth Center\, 211 W. Chestnut St\, Glendale\, CA\, 91204\, United States
CATEGORIES:Theater,Workshops
ATTACH;FMTTYPE=image/png:https://hamazkayinwr.org/wp-content/uploads/2024/06/Hamazkayin-Theater-Workshop-Promo.png
END:VEVENT
BEGIN:VEVENT
DTSTART;TZID=America/Los_Angeles:20240620T190000
DTEND;TZID=America/Los_Angeles:20240620T210000
DTSTAMP:20260425T090853
CREATED:20240614T203459Z
LAST-MODIFIED:20240614T203459Z
UID:10000091-1718910000-1718917200@hamazkayinwr.org
SUMMARY:Q&A with actor Aleksandr Khachatryan
DESCRIPTION:
URL:https://hamazkayinwr.org/event/qa-with-actor-aleksandr-khachatryan/
LOCATION:Pasadena Jivalagian Youth Center\, 2242 E. Foothill Blvd\, Pasadena\, CA\, 91107\, United States
CATEGORIES:Professional,Q&A
ATTACH;FMTTYPE=image/png:https://hamazkayinwr.org/wp-content/uploads/2024/06/Alexandr-Khachatryan-Flyer.png
END:VEVENT
BEGIN:VEVENT
DTSTART;TZID=America/Los_Angeles:20240614T190000
DTEND;TZID=America/Los_Angeles:20240614T210000
DTSTAMP:20260425T090853
CREATED:20240613T223638Z
LAST-MODIFIED:20240613T223638Z
UID:10000011-1718391600-1718398800@hamazkayinwr.org
SUMMARY:Acting Workshops
DESCRIPTION:Join our Hamazkayin Theatre Company’s new Acting Workshops!\n\n\n\nWorkshops are every Friday starting on June 14\, 2024 from 7-9pm at Glendale Youth Center (211 W. Chestnut St\, Glendale\, CA).\n\n\n\nNo professional experience required! Workshops are FREE and conducted in Armenian.\n\n\n\nFore more information\, call Shoushig at (714) 403-0875.
URL:https://hamazkayinwr.org/event/acting-workshops/2024-06-14/
LOCATION:Glendale Youth Center\, 211 W. Chestnut St\, Glendale\, CA\, 91204\, United States
CATEGORIES:Theater,Workshops
ATTACH;FMTTYPE=image/png:https://hamazkayinwr.org/wp-content/uploads/2024/06/Hamazkayin-Theater-Workshop-Promo.png
END:VEVENT
BEGIN:VEVENT
DTSTART;TZID=America/Los_Angeles:20240602T170000
DTEND;TZID=America/Los_Angeles:20240602T190000
DTSTAMP:20260425T090853
CREATED:20240504T232806Z
LAST-MODIFIED:20240512T065726Z
UID:10000001-1717347600-1717354800@hamazkayinwr.org
SUMMARY:Presentation in honor of Baruyr Sevag's 100th Birthday
DESCRIPTION:
URL:https://hamazkayinwr.org/event/presentation-in-honor-of-baruyr-sevags-100th-birthday/
LOCATION:Ferrahian Armenian School\, 5300 White Oak Ave\, Encino\, CA\, 91316\, United States
CATEGORIES:Commemoration,Historical Figures
ATTACH;FMTTYPE=image/jpeg:https://hamazkayinwr.org/wp-content/uploads/2024/05/Baruyr-Sevag-100th-Birthday-Presentation.jpg
END:VEVENT
BEGIN:VEVENT
DTSTART;TZID=America/Los_Angeles:20240525T173000
DTEND;TZID=America/Los_Angeles:20240525T210000
DTSTAMP:20260425T090853
CREATED:20240515T041147Z
LAST-MODIFIED:20240610T051429Z
UID:10000008-1716658200-1716670800@hamazkayinwr.org
SUMMARY:Hamazkayin "Sayat Nova" Choir in Fresno
DESCRIPTION:
URL:https://hamazkayinwr.org/event/hamazkayin-sayat-nova-choir-in-fresno/
LOCATION:Holy Trinity Armenian Apostolic Church\, 537 M St\, Fresno\, CA\, 93721\, United States
CATEGORIES:Choir,Music
ATTACH;FMTTYPE=image/jpeg:https://hamazkayinwr.org/wp-content/uploads/2024/05/Fresno-Sayat-Nova-Concert.jpg
END:VEVENT
BEGIN:VEVENT
DTSTART;TZID=America/Los_Angeles:20240519T170000
DTEND;TZID=America/Los_Angeles:20240519T190000
DTSTAMP:20260425T090853
CREATED:20240505T050036Z
LAST-MODIFIED:20240512T064625Z
UID:10000004-1716138000-1716145200@hamazkayinwr.org
SUMMARY:"Forbidden Homeland" Book Presentation with Dr. Katia Karageuzian
DESCRIPTION:
URL:https://hamazkayinwr.org/event/forbidden-homeland-book-presentation/
LOCATION:Glendale Youth Center\, 211 W. Chestnut St\, Glendale\, CA\, 91204\, United States
CATEGORIES:Literature
ATTACH;FMTTYPE=image/jpeg:https://hamazkayinwr.org/wp-content/uploads/2024/05/2024-05-19.jpg
END:VEVENT
BEGIN:VEVENT
DTSTART;TZID=America/Los_Angeles:20240519T133000
DTEND;TZID=America/Los_Angeles:20240519T170000
DTSTAMP:20260425T090853
CREATED:20240512T064421Z
LAST-MODIFIED:20240512T065529Z
UID:10000006-1716125400-1716138000@hamazkayinwr.org
SUMMARY:Aurora's Sunrise Movie Screening
DESCRIPTION:Movie Screening of “Aurora’s Sunrise” film at Harut Barsamian Armenian Center in Santa Ana. \nHosted by Hamazkayin Orange County “Siamanto” Chapter. \nFree Admission.
URL:https://hamazkayinwr.org/event/auroras-sunrise-movie-screening/
LOCATION:Harut Barsamian Armenian Center\, 5305 W McFadden Ave\, Santa Ana\, CA\, 92704\, United States
CATEGORIES:Film,Film Screening
ATTACH;FMTTYPE=image/png:https://hamazkayinwr.org/wp-content/uploads/2024/05/Siamanto-Auroras-Sunrise-Screening.png
END:VEVENT
BEGIN:VEVENT
DTSTART;TZID=America/Los_Angeles:20240518T110000
DTEND;TZID=America/Los_Angeles:20240518T140000
DTSTAMP:20260425T090853
CREATED:20240515T032001Z
LAST-MODIFIED:20240610T051319Z
UID:10000007-1716030000-1716040800@hamazkayinwr.org
SUMMARY:Mother's Day Luncheon
DESCRIPTION:
URL:https://hamazkayinwr.org/event/mothers-day-luncheon/
LOCATION:Pasadena Jivalagian Youth Center\, 2242 E. Foothill Blvd\, Pasadena\, CA\, 91107\, United States
CATEGORIES:Dining,Luncheon
ATTACH;FMTTYPE=image/png:https://hamazkayinwr.org/wp-content/uploads/2024/05/Pasadena-Hamazkayin-ARS-Mothers-Day-Luncheon.png
END:VEVENT
END:VCALENDAR