BEGIN:VCALENDAR
VERSION:2.0
PRODID:-//Hamazkayin Western USA - ECPv6.15.20//NONSGML v1.0//EN
CALSCALE:GREGORIAN
METHOD:PUBLISH
X-ORIGINAL-URL:https://hamazkayinwr.org
X-WR-CALDESC:Events for Hamazkayin Western USA
REFRESH-INTERVAL;VALUE=DURATION:PT1H
X-Robots-Tag:noindex
X-PUBLISHED-TTL:PT1H
BEGIN:VTIMEZONE
TZID:America/Los_Angeles
BEGIN:DAYLIGHT
TZOFFSETFROM:-0800
TZOFFSETTO:-0700
TZNAME:PDT
DTSTART:20250309T100000
END:DAYLIGHT
BEGIN:STANDARD
TZOFFSETFROM:-0700
TZOFFSETTO:-0800
TZNAME:PST
DTSTART:20251102T090000
END:STANDARD
BEGIN:DAYLIGHT
TZOFFSETFROM:-0800
TZOFFSETTO:-0700
TZNAME:PDT
DTSTART:20260308T100000
END:DAYLIGHT
BEGIN:STANDARD
TZOFFSETFROM:-0700
TZOFFSETTO:-0800
TZNAME:PST
DTSTART:20261101T090000
END:STANDARD
BEGIN:DAYLIGHT
TZOFFSETFROM:-0800
TZOFFSETTO:-0700
TZNAME:PDT
DTSTART:20270314T100000
END:DAYLIGHT
BEGIN:STANDARD
TZOFFSETFROM:-0700
TZOFFSETTO:-0800
TZNAME:PST
DTSTART:20271107T090000
END:STANDARD
END:VTIMEZONE
BEGIN:VEVENT
DTSTART;TZID=America/Los_Angeles:20260509T140000
DTEND;TZID=America/Los_Angeles:20260509T160000
DTSTAMP:20260423T155311
CREATED:20251016T200310Z
LAST-MODIFIED:20251016T200314Z
UID:10000759-1778335200-1778342400@hamazkayinwr.org
SUMMARY:Nairian Choir Rehearsal
DESCRIPTION:
URL:https://hamazkayinwr.org/event/nairian-choir-rehearsal/2026-05-09/
END:VEVENT
BEGIN:VEVENT
DTSTART;TZID=America/Los_Angeles:20260515T170000
DTEND;TZID=America/Los_Angeles:20260515T190000
DTSTAMP:20260423T155311
CREATED:20251016T195716Z
LAST-MODIFIED:20251016T195721Z
UID:10000716-1778864400-1778871600@hamazkayinwr.org
SUMMARY:Կար ու Ձեւի Դասարան
DESCRIPTION:
URL:https://hamazkayinwr.org/event/%d5%af%d5%a1%d6%80-%d5%b8%d6%82-%d5%b1%d5%a5%d6%82%d5%ab-%d5%a4%d5%a1%d5%bd%d5%a1%d6%80%d5%a1%d5%b6/2026-05-15/
ATTACH;FMTTYPE=image/png:https://hamazkayinwr.org/wp-content/uploads/2025/10/Sewing-Postcard-8.5x11-2025Final-NEW-copy.png
END:VEVENT
BEGIN:VEVENT
DTSTART;TZID=America/Los_Angeles:20260516T140000
DTEND;TZID=America/Los_Angeles:20260516T160000
DTSTAMP:20260423T155311
CREATED:20251016T200310Z
LAST-MODIFIED:20251016T200314Z
UID:10000760-1778940000-1778947200@hamazkayinwr.org
SUMMARY:Nairian Choir Rehearsal
DESCRIPTION:
URL:https://hamazkayinwr.org/event/nairian-choir-rehearsal/2026-05-16/
END:VEVENT
BEGIN:VEVENT
DTSTART;TZID=America/Los_Angeles:20260522T170000
DTEND;TZID=America/Los_Angeles:20260522T190000
DTSTAMP:20260423T155311
CREATED:20251016T195716Z
LAST-MODIFIED:20251016T195721Z
UID:10000717-1779469200-1779476400@hamazkayinwr.org
SUMMARY:Կար ու Ձեւի Դասարան
DESCRIPTION:
URL:https://hamazkayinwr.org/event/%d5%af%d5%a1%d6%80-%d5%b8%d6%82-%d5%b1%d5%a5%d6%82%d5%ab-%d5%a4%d5%a1%d5%bd%d5%a1%d6%80%d5%a1%d5%b6/2026-05-22/
ATTACH;FMTTYPE=image/png:https://hamazkayinwr.org/wp-content/uploads/2025/10/Sewing-Postcard-8.5x11-2025Final-NEW-copy.png
END:VEVENT
BEGIN:VEVENT
DTSTART;TZID=America/Los_Angeles:20260523T140000
DTEND;TZID=America/Los_Angeles:20260523T160000
DTSTAMP:20260423T155311
CREATED:20251016T200310Z
LAST-MODIFIED:20251016T200314Z
UID:10000761-1779544800-1779552000@hamazkayinwr.org
SUMMARY:Nairian Choir Rehearsal
DESCRIPTION:
URL:https://hamazkayinwr.org/event/nairian-choir-rehearsal/2026-05-23/
END:VEVENT
BEGIN:VEVENT
DTSTART;TZID=America/Los_Angeles:20260529T170000
DTEND;TZID=America/Los_Angeles:20260529T190000
DTSTAMP:20260423T155311
CREATED:20251016T195716Z
LAST-MODIFIED:20251016T195721Z
UID:10000718-1780074000-1780081200@hamazkayinwr.org
SUMMARY:Կար ու Ձեւի Դասարան
DESCRIPTION:
URL:https://hamazkayinwr.org/event/%d5%af%d5%a1%d6%80-%d5%b8%d6%82-%d5%b1%d5%a5%d6%82%d5%ab-%d5%a4%d5%a1%d5%bd%d5%a1%d6%80%d5%a1%d5%b6/2026-05-29/
ATTACH;FMTTYPE=image/png:https://hamazkayinwr.org/wp-content/uploads/2025/10/Sewing-Postcard-8.5x11-2025Final-NEW-copy.png
END:VEVENT
BEGIN:VEVENT
DTSTART;TZID=America/Los_Angeles:20260530T140000
DTEND;TZID=America/Los_Angeles:20260530T160000
DTSTAMP:20260423T155311
CREATED:20251016T200310Z
LAST-MODIFIED:20251016T200314Z
UID:10000762-1780149600-1780156800@hamazkayinwr.org
SUMMARY:Nairian Choir Rehearsal
DESCRIPTION:
URL:https://hamazkayinwr.org/event/nairian-choir-rehearsal/2026-05-30/
END:VEVENT
BEGIN:VEVENT
DTSTART;TZID=America/Los_Angeles:20260606T140000
DTEND;TZID=America/Los_Angeles:20260606T160000
DTSTAMP:20260423T155311
CREATED:20251016T200310Z
LAST-MODIFIED:20251016T200314Z
UID:10000763-1780754400-1780761600@hamazkayinwr.org
SUMMARY:Nairian Choir Rehearsal
DESCRIPTION:
URL:https://hamazkayinwr.org/event/nairian-choir-rehearsal/2026-06-06/
END:VEVENT
BEGIN:VEVENT
DTSTART;TZID=America/Los_Angeles:20260613T140000
DTEND;TZID=America/Los_Angeles:20260613T160000
DTSTAMP:20260423T155312
CREATED:20251016T200310Z
LAST-MODIFIED:20251016T200314Z
UID:10000764-1781359200-1781366400@hamazkayinwr.org
SUMMARY:Nairian Choir Rehearsal
DESCRIPTION:
URL:https://hamazkayinwr.org/event/nairian-choir-rehearsal/2026-06-13/
END:VEVENT
BEGIN:VEVENT
DTSTART;TZID=America/Los_Angeles:20260620T140000
DTEND;TZID=America/Los_Angeles:20260620T160000
DTSTAMP:20260423T155312
CREATED:20251016T200310Z
LAST-MODIFIED:20251016T200314Z
UID:10000765-1781964000-1781971200@hamazkayinwr.org
SUMMARY:Nairian Choir Rehearsal
DESCRIPTION:
URL:https://hamazkayinwr.org/event/nairian-choir-rehearsal/2026-06-20/
END:VEVENT
BEGIN:VEVENT
DTSTART;TZID=America/Los_Angeles:20260627T140000
DTEND;TZID=America/Los_Angeles:20260627T160000
DTSTAMP:20260423T155312
CREATED:20251016T200310Z
LAST-MODIFIED:20251016T200314Z
UID:10000766-1782568800-1782576000@hamazkayinwr.org
SUMMARY:Nairian Choir Rehearsal
DESCRIPTION:
URL:https://hamazkayinwr.org/event/nairian-choir-rehearsal/2026-06-27/
END:VEVENT
BEGIN:VEVENT
DTSTART;TZID=America/Los_Angeles:20260704T140000
DTEND;TZID=America/Los_Angeles:20260704T160000
DTSTAMP:20260423T155312
CREATED:20251016T200310Z
LAST-MODIFIED:20251016T200314Z
UID:10000767-1783173600-1783180800@hamazkayinwr.org
SUMMARY:Nairian Choir Rehearsal
DESCRIPTION:
URL:https://hamazkayinwr.org/event/nairian-choir-rehearsal/2026-07-04/
END:VEVENT
BEGIN:VEVENT
DTSTART;TZID=America/Los_Angeles:20260711T140000
DTEND;TZID=America/Los_Angeles:20260711T160000
DTSTAMP:20260423T155312
CREATED:20251016T200310Z
LAST-MODIFIED:20251016T200314Z
UID:10000768-1783778400-1783785600@hamazkayinwr.org
SUMMARY:Nairian Choir Rehearsal
DESCRIPTION:
URL:https://hamazkayinwr.org/event/nairian-choir-rehearsal/2026-07-11/
END:VEVENT
BEGIN:VEVENT
DTSTART;TZID=America/Los_Angeles:20260718T140000
DTEND;TZID=America/Los_Angeles:20260718T160000
DTSTAMP:20260423T155312
CREATED:20251016T200310Z
LAST-MODIFIED:20251016T200314Z
UID:10000769-1784383200-1784390400@hamazkayinwr.org
SUMMARY:Nairian Choir Rehearsal
DESCRIPTION:
URL:https://hamazkayinwr.org/event/nairian-choir-rehearsal/2026-07-18/
END:VEVENT
BEGIN:VEVENT
DTSTART;TZID=America/Los_Angeles:20260725T140000
DTEND;TZID=America/Los_Angeles:20260725T160000
DTSTAMP:20260423T155312
CREATED:20251016T200310Z
LAST-MODIFIED:20251016T200314Z
UID:10000770-1784988000-1784995200@hamazkayinwr.org
SUMMARY:Nairian Choir Rehearsal
DESCRIPTION:
URL:https://hamazkayinwr.org/event/nairian-choir-rehearsal/2026-07-25/
END:VEVENT
END:VCALENDAR