BEGIN:VCALENDAR
VERSION:2.0
PRODID:-//Hamazkayin Western USA - ECPv6.15.20//NONSGML v1.0//EN
CALSCALE:GREGORIAN
METHOD:PUBLISH
X-ORIGINAL-URL:https://hamazkayinwr.org
X-WR-CALDESC:Events for Hamazkayin Western USA
REFRESH-INTERVAL;VALUE=DURATION:PT1H
X-Robots-Tag:noindex
X-PUBLISHED-TTL:PT1H
BEGIN:VTIMEZONE
TZID:America/Los_Angeles
BEGIN:DAYLIGHT
TZOFFSETFROM:-0800
TZOFFSETTO:-0700
TZNAME:PDT
DTSTART:20250309T100000
END:DAYLIGHT
BEGIN:STANDARD
TZOFFSETFROM:-0700
TZOFFSETTO:-0800
TZNAME:PST
DTSTART:20251102T090000
END:STANDARD
BEGIN:DAYLIGHT
TZOFFSETFROM:-0800
TZOFFSETTO:-0700
TZNAME:PDT
DTSTART:20260308T100000
END:DAYLIGHT
BEGIN:STANDARD
TZOFFSETFROM:-0700
TZOFFSETTO:-0800
TZNAME:PST
DTSTART:20261101T090000
END:STANDARD
BEGIN:DAYLIGHT
TZOFFSETFROM:-0800
TZOFFSETTO:-0700
TZNAME:PDT
DTSTART:20270314T100000
END:DAYLIGHT
BEGIN:STANDARD
TZOFFSETFROM:-0700
TZOFFSETTO:-0800
TZNAME:PST
DTSTART:20271107T090000
END:STANDARD
END:VTIMEZONE
BEGIN:VEVENT
DTSTART;TZID=America/Los_Angeles:20260218T190000
DTEND;TZID=America/Los_Angeles:20260218T220000
DTSTAMP:20260423T172050
CREATED:20251016T200542Z
LAST-MODIFIED:20251027T172208Z
UID:10000817-1771441200-1771452000@hamazkayinwr.org
SUMMARY:Sayat Nova Choir Rehearsal
DESCRIPTION:
URL:https://hamazkayinwr.org/event/sayat-nova-choir-rehearsal/2026-02-18/
END:VEVENT
BEGIN:VEVENT
DTSTART;TZID=America/Los_Angeles:20260220T170000
DTEND;TZID=America/Los_Angeles:20260220T190000
DTSTAMP:20260423T172050
CREATED:20251016T195716Z
LAST-MODIFIED:20251016T195721Z
UID:10000704-1771606800-1771614000@hamazkayinwr.org
SUMMARY:Կար ու Ձեւի Դասարան
DESCRIPTION:
URL:https://hamazkayinwr.org/event/%d5%af%d5%a1%d6%80-%d5%b8%d6%82-%d5%b1%d5%a5%d6%82%d5%ab-%d5%a4%d5%a1%d5%bd%d5%a1%d6%80%d5%a1%d5%b6/2026-02-20/
ATTACH;FMTTYPE=image/png:https://hamazkayinwr.org/wp-content/uploads/2025/10/Sewing-Postcard-8.5x11-2025Final-NEW-copy.png
END:VEVENT
BEGIN:VEVENT
DTSTART;TZID=America/Los_Angeles:20260221T140000
DTEND;TZID=America/Los_Angeles:20260221T160000
DTSTAMP:20260423T172050
CREATED:20251016T200310Z
LAST-MODIFIED:20251016T200314Z
UID:10000748-1771682400-1771689600@hamazkayinwr.org
SUMMARY:Nairian Choir Rehearsal
DESCRIPTION:
URL:https://hamazkayinwr.org/event/nairian-choir-rehearsal/2026-02-21/
END:VEVENT
BEGIN:VEVENT
DTSTART;TZID=America/Los_Angeles:20260225T190000
DTEND;TZID=America/Los_Angeles:20260225T220000
DTSTAMP:20260423T172050
CREATED:20251016T200542Z
LAST-MODIFIED:20251027T172208Z
UID:10000818-1772046000-1772056800@hamazkayinwr.org
SUMMARY:Sayat Nova Choir Rehearsal
DESCRIPTION:
URL:https://hamazkayinwr.org/event/sayat-nova-choir-rehearsal/2026-02-25/
END:VEVENT
BEGIN:VEVENT
DTSTART;TZID=America/Los_Angeles:20260227T170000
DTEND;TZID=America/Los_Angeles:20260227T190000
DTSTAMP:20260423T172050
CREATED:20251016T195716Z
LAST-MODIFIED:20251016T195721Z
UID:10000705-1772211600-1772218800@hamazkayinwr.org
SUMMARY:Կար ու Ձեւի Դասարան
DESCRIPTION:
URL:https://hamazkayinwr.org/event/%d5%af%d5%a1%d6%80-%d5%b8%d6%82-%d5%b1%d5%a5%d6%82%d5%ab-%d5%a4%d5%a1%d5%bd%d5%a1%d6%80%d5%a1%d5%b6/2026-02-27/
ATTACH;FMTTYPE=image/png:https://hamazkayinwr.org/wp-content/uploads/2025/10/Sewing-Postcard-8.5x11-2025Final-NEW-copy.png
END:VEVENT
BEGIN:VEVENT
DTSTART;TZID=America/Los_Angeles:20260228T140000
DTEND;TZID=America/Los_Angeles:20260228T160000
DTSTAMP:20260423T172050
CREATED:20251016T200310Z
LAST-MODIFIED:20251016T200314Z
UID:10000749-1772287200-1772294400@hamazkayinwr.org
SUMMARY:Nairian Choir Rehearsal
DESCRIPTION:
URL:https://hamazkayinwr.org/event/nairian-choir-rehearsal/2026-02-28/
END:VEVENT
BEGIN:VEVENT
DTSTART;TZID=America/Los_Angeles:20260304T190000
DTEND;TZID=America/Los_Angeles:20260304T220000
DTSTAMP:20260423T172050
CREATED:20251016T200542Z
LAST-MODIFIED:20251027T172208Z
UID:10000819-1772650800-1772661600@hamazkayinwr.org
SUMMARY:Sayat Nova Choir Rehearsal
DESCRIPTION:
URL:https://hamazkayinwr.org/event/sayat-nova-choir-rehearsal/2026-03-04/
END:VEVENT
BEGIN:VEVENT
DTSTART;TZID=America/Los_Angeles:20260306T170000
DTEND;TZID=America/Los_Angeles:20260306T190000
DTSTAMP:20260423T172050
CREATED:20251016T195716Z
LAST-MODIFIED:20251016T195721Z
UID:10000706-1772816400-1772823600@hamazkayinwr.org
SUMMARY:Կար ու Ձեւի Դասարան
DESCRIPTION:
URL:https://hamazkayinwr.org/event/%d5%af%d5%a1%d6%80-%d5%b8%d6%82-%d5%b1%d5%a5%d6%82%d5%ab-%d5%a4%d5%a1%d5%bd%d5%a1%d6%80%d5%a1%d5%b6/2026-03-06/
ATTACH;FMTTYPE=image/png:https://hamazkayinwr.org/wp-content/uploads/2025/10/Sewing-Postcard-8.5x11-2025Final-NEW-copy.png
END:VEVENT
BEGIN:VEVENT
DTSTART;TZID=America/Los_Angeles:20260307T140000
DTEND;TZID=America/Los_Angeles:20260307T160000
DTSTAMP:20260423T172050
CREATED:20251016T200310Z
LAST-MODIFIED:20251016T200314Z
UID:10000750-1772892000-1772899200@hamazkayinwr.org
SUMMARY:Nairian Choir Rehearsal
DESCRIPTION:
URL:https://hamazkayinwr.org/event/nairian-choir-rehearsal/2026-03-07/
END:VEVENT
BEGIN:VEVENT
DTSTART;TZID=America/Los_Angeles:20260311T190000
DTEND;TZID=America/Los_Angeles:20260311T220000
DTSTAMP:20260423T172050
CREATED:20251016T200542Z
LAST-MODIFIED:20251027T172208Z
UID:10000820-1773255600-1773266400@hamazkayinwr.org
SUMMARY:Sayat Nova Choir Rehearsal
DESCRIPTION:
URL:https://hamazkayinwr.org/event/sayat-nova-choir-rehearsal/2026-03-11/
END:VEVENT
BEGIN:VEVENT
DTSTART;TZID=America/Los_Angeles:20260313T170000
DTEND;TZID=America/Los_Angeles:20260313T190000
DTSTAMP:20260423T172050
CREATED:20251016T195716Z
LAST-MODIFIED:20251016T195721Z
UID:10000707-1773421200-1773428400@hamazkayinwr.org
SUMMARY:Կար ու Ձեւի Դասարան
DESCRIPTION:
URL:https://hamazkayinwr.org/event/%d5%af%d5%a1%d6%80-%d5%b8%d6%82-%d5%b1%d5%a5%d6%82%d5%ab-%d5%a4%d5%a1%d5%bd%d5%a1%d6%80%d5%a1%d5%b6/2026-03-13/
ATTACH;FMTTYPE=image/png:https://hamazkayinwr.org/wp-content/uploads/2025/10/Sewing-Postcard-8.5x11-2025Final-NEW-copy.png
END:VEVENT
BEGIN:VEVENT
DTSTART;TZID=America/Los_Angeles:20260314T140000
DTEND;TZID=America/Los_Angeles:20260314T160000
DTSTAMP:20260423T172050
CREATED:20251016T200310Z
LAST-MODIFIED:20251016T200314Z
UID:10000751-1773496800-1773504000@hamazkayinwr.org
SUMMARY:Nairian Choir Rehearsal
DESCRIPTION:
URL:https://hamazkayinwr.org/event/nairian-choir-rehearsal/2026-03-14/
END:VEVENT
BEGIN:VEVENT
DTSTART;TZID=America/Los_Angeles:20260318T190000
DTEND;TZID=America/Los_Angeles:20260318T220000
DTSTAMP:20260423T172050
CREATED:20251016T200542Z
LAST-MODIFIED:20251027T172208Z
UID:10000821-1773860400-1773871200@hamazkayinwr.org
SUMMARY:Sayat Nova Choir Rehearsal
DESCRIPTION:
URL:https://hamazkayinwr.org/event/sayat-nova-choir-rehearsal/2026-03-18/
END:VEVENT
BEGIN:VEVENT
DTSTART;TZID=America/Los_Angeles:20260320T170000
DTEND;TZID=America/Los_Angeles:20260320T190000
DTSTAMP:20260423T172050
CREATED:20251016T195716Z
LAST-MODIFIED:20251016T195721Z
UID:10000708-1774026000-1774033200@hamazkayinwr.org
SUMMARY:Կար ու Ձեւի Դասարան
DESCRIPTION:
URL:https://hamazkayinwr.org/event/%d5%af%d5%a1%d6%80-%d5%b8%d6%82-%d5%b1%d5%a5%d6%82%d5%ab-%d5%a4%d5%a1%d5%bd%d5%a1%d6%80%d5%a1%d5%b6/2026-03-20/
ATTACH;FMTTYPE=image/png:https://hamazkayinwr.org/wp-content/uploads/2025/10/Sewing-Postcard-8.5x11-2025Final-NEW-copy.png
END:VEVENT
BEGIN:VEVENT
DTSTART;TZID=America/Los_Angeles:20260321T140000
DTEND;TZID=America/Los_Angeles:20260321T160000
DTSTAMP:20260423T172050
CREATED:20251016T200310Z
LAST-MODIFIED:20251016T200314Z
UID:10000752-1774101600-1774108800@hamazkayinwr.org
SUMMARY:Nairian Choir Rehearsal
DESCRIPTION:
URL:https://hamazkayinwr.org/event/nairian-choir-rehearsal/2026-03-21/
END:VEVENT
BEGIN:VEVENT
DTSTART;TZID=America/Los_Angeles:20260325T190000
DTEND;TZID=America/Los_Angeles:20260325T220000
DTSTAMP:20260423T172050
CREATED:20251016T200542Z
LAST-MODIFIED:20251027T172208Z
UID:10000822-1774465200-1774476000@hamazkayinwr.org
SUMMARY:Sayat Nova Choir Rehearsal
DESCRIPTION:
URL:https://hamazkayinwr.org/event/sayat-nova-choir-rehearsal/2026-03-25/
END:VEVENT
BEGIN:VEVENT
DTSTART;TZID=America/Los_Angeles:20260327T170000
DTEND;TZID=America/Los_Angeles:20260327T190000
DTSTAMP:20260423T172050
CREATED:20251016T195716Z
LAST-MODIFIED:20251016T195721Z
UID:10000709-1774630800-1774638000@hamazkayinwr.org
SUMMARY:Կար ու Ձեւի Դասարան
DESCRIPTION:
URL:https://hamazkayinwr.org/event/%d5%af%d5%a1%d6%80-%d5%b8%d6%82-%d5%b1%d5%a5%d6%82%d5%ab-%d5%a4%d5%a1%d5%bd%d5%a1%d6%80%d5%a1%d5%b6/2026-03-27/
ATTACH;FMTTYPE=image/png:https://hamazkayinwr.org/wp-content/uploads/2025/10/Sewing-Postcard-8.5x11-2025Final-NEW-copy.png
END:VEVENT
BEGIN:VEVENT
DTSTART;TZID=America/Los_Angeles:20260328T140000
DTEND;TZID=America/Los_Angeles:20260328T160000
DTSTAMP:20260423T172050
CREATED:20251016T200310Z
LAST-MODIFIED:20251016T200314Z
UID:10000753-1774706400-1774713600@hamazkayinwr.org
SUMMARY:Nairian Choir Rehearsal
DESCRIPTION:
URL:https://hamazkayinwr.org/event/nairian-choir-rehearsal/2026-03-28/
END:VEVENT
BEGIN:VEVENT
DTSTART;TZID=America/Los_Angeles:20260403T170000
DTEND;TZID=America/Los_Angeles:20260403T190000
DTSTAMP:20260423T172050
CREATED:20251016T195716Z
LAST-MODIFIED:20251016T195721Z
UID:10000710-1775235600-1775242800@hamazkayinwr.org
SUMMARY:Կար ու Ձեւի Դասարան
DESCRIPTION:
URL:https://hamazkayinwr.org/event/%d5%af%d5%a1%d6%80-%d5%b8%d6%82-%d5%b1%d5%a5%d6%82%d5%ab-%d5%a4%d5%a1%d5%bd%d5%a1%d6%80%d5%a1%d5%b6/2026-04-03/
ATTACH;FMTTYPE=image/png:https://hamazkayinwr.org/wp-content/uploads/2025/10/Sewing-Postcard-8.5x11-2025Final-NEW-copy.png
END:VEVENT
BEGIN:VEVENT
DTSTART;TZID=America/Los_Angeles:20260404T140000
DTEND;TZID=America/Los_Angeles:20260404T160000
DTSTAMP:20260423T172050
CREATED:20251016T200310Z
LAST-MODIFIED:20251016T200314Z
UID:10000754-1775311200-1775318400@hamazkayinwr.org
SUMMARY:Nairian Choir Rehearsal
DESCRIPTION:
URL:https://hamazkayinwr.org/event/nairian-choir-rehearsal/2026-04-04/
END:VEVENT
BEGIN:VEVENT
DTSTART;TZID=America/Los_Angeles:20260410T170000
DTEND;TZID=America/Los_Angeles:20260410T190000
DTSTAMP:20260423T172050
CREATED:20251016T195716Z
LAST-MODIFIED:20251016T195721Z
UID:10000711-1775840400-1775847600@hamazkayinwr.org
SUMMARY:Կար ու Ձեւի Դասարան
DESCRIPTION:
URL:https://hamazkayinwr.org/event/%d5%af%d5%a1%d6%80-%d5%b8%d6%82-%d5%b1%d5%a5%d6%82%d5%ab-%d5%a4%d5%a1%d5%bd%d5%a1%d6%80%d5%a1%d5%b6/2026-04-10/
ATTACH;FMTTYPE=image/png:https://hamazkayinwr.org/wp-content/uploads/2025/10/Sewing-Postcard-8.5x11-2025Final-NEW-copy.png
END:VEVENT
BEGIN:VEVENT
DTSTART;TZID=America/Los_Angeles:20260411T140000
DTEND;TZID=America/Los_Angeles:20260411T160000
DTSTAMP:20260423T172050
CREATED:20251016T200310Z
LAST-MODIFIED:20251016T200314Z
UID:10000755-1775916000-1775923200@hamazkayinwr.org
SUMMARY:Nairian Choir Rehearsal
DESCRIPTION:
URL:https://hamazkayinwr.org/event/nairian-choir-rehearsal/2026-04-11/
END:VEVENT
BEGIN:VEVENT
DTSTART;TZID=America/Los_Angeles:20260417T170000
DTEND;TZID=America/Los_Angeles:20260417T190000
DTSTAMP:20260423T172050
CREATED:20251016T195716Z
LAST-MODIFIED:20251016T195721Z
UID:10000712-1776445200-1776452400@hamazkayinwr.org
SUMMARY:Կար ու Ձեւի Դասարան
DESCRIPTION:
URL:https://hamazkayinwr.org/event/%d5%af%d5%a1%d6%80-%d5%b8%d6%82-%d5%b1%d5%a5%d6%82%d5%ab-%d5%a4%d5%a1%d5%bd%d5%a1%d6%80%d5%a1%d5%b6/2026-04-17/
ATTACH;FMTTYPE=image/png:https://hamazkayinwr.org/wp-content/uploads/2025/10/Sewing-Postcard-8.5x11-2025Final-NEW-copy.png
END:VEVENT
BEGIN:VEVENT
DTSTART;TZID=America/Los_Angeles:20260418T140000
DTEND;TZID=America/Los_Angeles:20260418T160000
DTSTAMP:20260423T172050
CREATED:20251016T200310Z
LAST-MODIFIED:20251016T200314Z
UID:10000756-1776520800-1776528000@hamazkayinwr.org
SUMMARY:Nairian Choir Rehearsal
DESCRIPTION:
URL:https://hamazkayinwr.org/event/nairian-choir-rehearsal/2026-04-18/
END:VEVENT
BEGIN:VEVENT
DTSTART;TZID=America/Los_Angeles:20260424T170000
DTEND;TZID=America/Los_Angeles:20260424T190000
DTSTAMP:20260423T172050
CREATED:20251016T195716Z
LAST-MODIFIED:20251016T195721Z
UID:10000713-1777050000-1777057200@hamazkayinwr.org
SUMMARY:Կար ու Ձեւի Դասարան
DESCRIPTION:
URL:https://hamazkayinwr.org/event/%d5%af%d5%a1%d6%80-%d5%b8%d6%82-%d5%b1%d5%a5%d6%82%d5%ab-%d5%a4%d5%a1%d5%bd%d5%a1%d6%80%d5%a1%d5%b6/2026-04-24/
ATTACH;FMTTYPE=image/png:https://hamazkayinwr.org/wp-content/uploads/2025/10/Sewing-Postcard-8.5x11-2025Final-NEW-copy.png
END:VEVENT
BEGIN:VEVENT
DTSTART;TZID=America/Los_Angeles:20260425T140000
DTEND;TZID=America/Los_Angeles:20260425T160000
DTSTAMP:20260423T172050
CREATED:20251016T200310Z
LAST-MODIFIED:20251016T200314Z
UID:10000757-1777125600-1777132800@hamazkayinwr.org
SUMMARY:Nairian Choir Rehearsal
DESCRIPTION:
URL:https://hamazkayinwr.org/event/nairian-choir-rehearsal/2026-04-25/
END:VEVENT
BEGIN:VEVENT
DTSTART;TZID=America/Los_Angeles:20260501T170000
DTEND;TZID=America/Los_Angeles:20260501T190000
DTSTAMP:20260423T172050
CREATED:20251016T195716Z
LAST-MODIFIED:20251016T195721Z
UID:10000714-1777654800-1777662000@hamazkayinwr.org
SUMMARY:Կար ու Ձեւի Դասարան
DESCRIPTION:
URL:https://hamazkayinwr.org/event/%d5%af%d5%a1%d6%80-%d5%b8%d6%82-%d5%b1%d5%a5%d6%82%d5%ab-%d5%a4%d5%a1%d5%bd%d5%a1%d6%80%d5%a1%d5%b6/2026-05-01/
ATTACH;FMTTYPE=image/png:https://hamazkayinwr.org/wp-content/uploads/2025/10/Sewing-Postcard-8.5x11-2025Final-NEW-copy.png
END:VEVENT
BEGIN:VEVENT
DTSTART;TZID=America/Los_Angeles:20260502T140000
DTEND;TZID=America/Los_Angeles:20260502T160000
DTSTAMP:20260423T172050
CREATED:20251016T200310Z
LAST-MODIFIED:20251016T200314Z
UID:10000758-1777730400-1777737600@hamazkayinwr.org
SUMMARY:Nairian Choir Rehearsal
DESCRIPTION:
URL:https://hamazkayinwr.org/event/nairian-choir-rehearsal/2026-05-02/
END:VEVENT
BEGIN:VEVENT
DTSTART;TZID=America/Los_Angeles:20260508T170000
DTEND;TZID=America/Los_Angeles:20260508T190000
DTSTAMP:20260423T172050
CREATED:20251016T195716Z
LAST-MODIFIED:20251016T195721Z
UID:10000715-1778259600-1778266800@hamazkayinwr.org
SUMMARY:Կար ու Ձեւի Դասարան
DESCRIPTION:
URL:https://hamazkayinwr.org/event/%d5%af%d5%a1%d6%80-%d5%b8%d6%82-%d5%b1%d5%a5%d6%82%d5%ab-%d5%a4%d5%a1%d5%bd%d5%a1%d6%80%d5%a1%d5%b6/2026-05-08/
ATTACH;FMTTYPE=image/png:https://hamazkayinwr.org/wp-content/uploads/2025/10/Sewing-Postcard-8.5x11-2025Final-NEW-copy.png
END:VEVENT
BEGIN:VEVENT
DTSTART;TZID=America/Los_Angeles:20260509T140000
DTEND;TZID=America/Los_Angeles:20260509T160000
DTSTAMP:20260423T172050
CREATED:20251016T200310Z
LAST-MODIFIED:20251016T200314Z
UID:10000759-1778335200-1778342400@hamazkayinwr.org
SUMMARY:Nairian Choir Rehearsal
DESCRIPTION:
URL:https://hamazkayinwr.org/event/nairian-choir-rehearsal/2026-05-09/
END:VEVENT
END:VCALENDAR