BEGIN:VCALENDAR
VERSION:2.0
PRODID:-//Hamazkayin Western USA - ECPv6.15.20//NONSGML v1.0//EN
CALSCALE:GREGORIAN
METHOD:PUBLISH
X-WR-CALNAME:Hamazkayin Western USA
X-ORIGINAL-URL:https://hamazkayinwr.org
X-WR-CALDESC:Events for Hamazkayin Western USA
REFRESH-INTERVAL;VALUE=DURATION:PT1H
X-Robots-Tag:noindex
X-PUBLISHED-TTL:PT1H
BEGIN:VTIMEZONE
TZID:America/Los_Angeles
BEGIN:DAYLIGHT
TZOFFSETFROM:-0800
TZOFFSETTO:-0700
TZNAME:PDT
DTSTART:20240310T100000
END:DAYLIGHT
BEGIN:STANDARD
TZOFFSETFROM:-0700
TZOFFSETTO:-0800
TZNAME:PST
DTSTART:20241103T090000
END:STANDARD
BEGIN:DAYLIGHT
TZOFFSETFROM:-0800
TZOFFSETTO:-0700
TZNAME:PDT
DTSTART:20250309T100000
END:DAYLIGHT
BEGIN:STANDARD
TZOFFSETFROM:-0700
TZOFFSETTO:-0800
TZNAME:PST
DTSTART:20251102T090000
END:STANDARD
BEGIN:DAYLIGHT
TZOFFSETFROM:-0800
TZOFFSETTO:-0700
TZNAME:PDT
DTSTART:20260308T100000
END:DAYLIGHT
BEGIN:STANDARD
TZOFFSETFROM:-0700
TZOFFSETTO:-0800
TZNAME:PST
DTSTART:20261101T090000
END:STANDARD
BEGIN:DAYLIGHT
TZOFFSETFROM:-0800
TZOFFSETTO:-0700
TZNAME:PDT
DTSTART:20270314T100000
END:DAYLIGHT
BEGIN:STANDARD
TZOFFSETFROM:-0700
TZOFFSETTO:-0800
TZNAME:PST
DTSTART:20271107T090000
END:STANDARD
END:VTIMEZONE
BEGIN:VEVENT
DTSTART;TZID=America/Los_Angeles:20260131T140000
DTEND;TZID=America/Los_Angeles:20260131T160000
DTSTAMP:20260423T155536
CREATED:20251016T200310Z
LAST-MODIFIED:20251016T200314Z
UID:10000745-1769868000-1769875200@hamazkayinwr.org
SUMMARY:Nairian Choir Rehearsal
DESCRIPTION:
URL:https://hamazkayinwr.org/event/nairian-choir-rehearsal/2026-01-31/
END:VEVENT
BEGIN:VEVENT
DTSTART;TZID=America/Los_Angeles:20260130T170000
DTEND;TZID=America/Los_Angeles:20260130T190000
DTSTAMP:20260423T155536
CREATED:20251016T195716Z
LAST-MODIFIED:20251016T195721Z
UID:10000701-1769792400-1769799600@hamazkayinwr.org
SUMMARY:Կար ու Ձեւի Դասարան
DESCRIPTION:
URL:https://hamazkayinwr.org/event/%d5%af%d5%a1%d6%80-%d5%b8%d6%82-%d5%b1%d5%a5%d6%82%d5%ab-%d5%a4%d5%a1%d5%bd%d5%a1%d6%80%d5%a1%d5%b6/2026-01-30/
ATTACH;FMTTYPE=image/png:https://hamazkayinwr.org/wp-content/uploads/2025/10/Sewing-Postcard-8.5x11-2025Final-NEW-copy.png
END:VEVENT
BEGIN:VEVENT
DTSTART;TZID=America/Los_Angeles:20260128T190000
DTEND;TZID=America/Los_Angeles:20260128T220000
DTSTAMP:20260423T155536
CREATED:20251016T200542Z
LAST-MODIFIED:20251027T172208Z
UID:10000814-1769626800-1769637600@hamazkayinwr.org
SUMMARY:Sayat Nova Choir Rehearsal
DESCRIPTION:
URL:https://hamazkayinwr.org/event/sayat-nova-choir-rehearsal/2026-01-28/
END:VEVENT
BEGIN:VEVENT
DTSTART;TZID=America/Los_Angeles:20260124T140000
DTEND;TZID=America/Los_Angeles:20260124T160000
DTSTAMP:20260423T155536
CREATED:20251016T200310Z
LAST-MODIFIED:20251016T200314Z
UID:10000744-1769263200-1769270400@hamazkayinwr.org
SUMMARY:Nairian Choir Rehearsal
DESCRIPTION:
URL:https://hamazkayinwr.org/event/nairian-choir-rehearsal/2026-01-24/
END:VEVENT
BEGIN:VEVENT
DTSTART;TZID=America/Los_Angeles:20260123T170000
DTEND;TZID=America/Los_Angeles:20260123T190000
DTSTAMP:20260423T155536
CREATED:20251016T195716Z
LAST-MODIFIED:20251016T195721Z
UID:10000700-1769187600-1769194800@hamazkayinwr.org
SUMMARY:Կար ու Ձեւի Դասարան
DESCRIPTION:
URL:https://hamazkayinwr.org/event/%d5%af%d5%a1%d6%80-%d5%b8%d6%82-%d5%b1%d5%a5%d6%82%d5%ab-%d5%a4%d5%a1%d5%bd%d5%a1%d6%80%d5%a1%d5%b6/2026-01-23/
ATTACH;FMTTYPE=image/png:https://hamazkayinwr.org/wp-content/uploads/2025/10/Sewing-Postcard-8.5x11-2025Final-NEW-copy.png
END:VEVENT
BEGIN:VEVENT
DTSTART;TZID=America/Los_Angeles:20260121T190000
DTEND;TZID=America/Los_Angeles:20260121T220000
DTSTAMP:20260423T155536
CREATED:20251016T200542Z
LAST-MODIFIED:20251027T172208Z
UID:10000813-1769022000-1769032800@hamazkayinwr.org
SUMMARY:Sayat Nova Choir Rehearsal
DESCRIPTION:
URL:https://hamazkayinwr.org/event/sayat-nova-choir-rehearsal/2026-01-21/
END:VEVENT
BEGIN:VEVENT
DTSTART;TZID=America/Los_Angeles:20260117T140000
DTEND;TZID=America/Los_Angeles:20260117T160000
DTSTAMP:20260423T155536
CREATED:20251016T200310Z
LAST-MODIFIED:20251016T200314Z
UID:10000743-1768658400-1768665600@hamazkayinwr.org
SUMMARY:Nairian Choir Rehearsal
DESCRIPTION:
URL:https://hamazkayinwr.org/event/nairian-choir-rehearsal/2026-01-17/
END:VEVENT
BEGIN:VEVENT
DTSTART;TZID=America/Los_Angeles:20260116T170000
DTEND;TZID=America/Los_Angeles:20260116T190000
DTSTAMP:20260423T155536
CREATED:20251016T195716Z
LAST-MODIFIED:20251016T195721Z
UID:10000699-1768582800-1768590000@hamazkayinwr.org
SUMMARY:Կար ու Ձեւի Դասարան
DESCRIPTION:
URL:https://hamazkayinwr.org/event/%d5%af%d5%a1%d6%80-%d5%b8%d6%82-%d5%b1%d5%a5%d6%82%d5%ab-%d5%a4%d5%a1%d5%bd%d5%a1%d6%80%d5%a1%d5%b6/2026-01-16/
ATTACH;FMTTYPE=image/png:https://hamazkayinwr.org/wp-content/uploads/2025/10/Sewing-Postcard-8.5x11-2025Final-NEW-copy.png
END:VEVENT
BEGIN:VEVENT
DTSTART;TZID=America/Los_Angeles:20260115T170000
DTEND;TZID=America/Los_Angeles:20260115T190000
DTSTAMP:20260423T155536
CREATED:20251012T064117Z
LAST-MODIFIED:20251012T064502Z
UID:10000666-1768496400-1768503600@hamazkayinwr.org
SUMMARY:Needlework Classes - Marash Embroidery
DESCRIPTION:
URL:https://hamazkayinwr.org/event/needlework-classes-marash-embroidery/2026-01-15/
LOCATION:Headquarter Offices for the Hamazkayin Cultural Foundation\, 1524 Cañada Blvd.\, Glendale\, CA\, 91208
ATTACH;FMTTYPE=image/png:https://hamazkayinwr.org/wp-content/uploads/2025/10/FLYER-Marash-embroidery-October-2025-copy.png
END:VEVENT
BEGIN:VEVENT
DTSTART;TZID=America/Los_Angeles:20260114T190000
DTEND;TZID=America/Los_Angeles:20260114T220000
DTSTAMP:20260423T155536
CREATED:20251016T200542Z
LAST-MODIFIED:20251027T172208Z
UID:10000812-1768417200-1768428000@hamazkayinwr.org
SUMMARY:Sayat Nova Choir Rehearsal
DESCRIPTION:
URL:https://hamazkayinwr.org/event/sayat-nova-choir-rehearsal/2026-01-14/
END:VEVENT
BEGIN:VEVENT
DTSTART;TZID=America/Los_Angeles:20260110T140000
DTEND;TZID=America/Los_Angeles:20260110T160000
DTSTAMP:20260423T155536
CREATED:20251016T200310Z
LAST-MODIFIED:20251016T200314Z
UID:10000742-1768053600-1768060800@hamazkayinwr.org
SUMMARY:Nairian Choir Rehearsal
DESCRIPTION:
URL:https://hamazkayinwr.org/event/nairian-choir-rehearsal/2026-01-10/
END:VEVENT
BEGIN:VEVENT
DTSTART;TZID=America/Los_Angeles:20260109T170000
DTEND;TZID=America/Los_Angeles:20260109T190000
DTSTAMP:20260423T155536
CREATED:20251016T195716Z
LAST-MODIFIED:20251016T195721Z
UID:10000698-1767978000-1767985200@hamazkayinwr.org
SUMMARY:Կար ու Ձեւի Դասարան
DESCRIPTION:
URL:https://hamazkayinwr.org/event/%d5%af%d5%a1%d6%80-%d5%b8%d6%82-%d5%b1%d5%a5%d6%82%d5%ab-%d5%a4%d5%a1%d5%bd%d5%a1%d6%80%d5%a1%d5%b6/2026-01-09/
ATTACH;FMTTYPE=image/png:https://hamazkayinwr.org/wp-content/uploads/2025/10/Sewing-Postcard-8.5x11-2025Final-NEW-copy.png
END:VEVENT
BEGIN:VEVENT
DTSTART;TZID=America/Los_Angeles:20260108T170000
DTEND;TZID=America/Los_Angeles:20260108T190000
DTSTAMP:20260423T155536
CREATED:20251012T064117Z
LAST-MODIFIED:20251012T064502Z
UID:10000665-1767891600-1767898800@hamazkayinwr.org
SUMMARY:Needlework Classes - Marash Embroidery
DESCRIPTION:
URL:https://hamazkayinwr.org/event/needlework-classes-marash-embroidery/2026-01-08/
LOCATION:Headquarter Offices for the Hamazkayin Cultural Foundation\, 1524 Cañada Blvd.\, Glendale\, CA\, 91208
ATTACH;FMTTYPE=image/png:https://hamazkayinwr.org/wp-content/uploads/2025/10/FLYER-Marash-embroidery-October-2025-copy.png
END:VEVENT
BEGIN:VEVENT
DTSTART;TZID=America/Los_Angeles:20260107T190000
DTEND;TZID=America/Los_Angeles:20260107T220000
DTSTAMP:20260423T155536
CREATED:20251016T200542Z
LAST-MODIFIED:20251027T172208Z
UID:10000811-1767812400-1767823200@hamazkayinwr.org
SUMMARY:Sayat Nova Choir Rehearsal
DESCRIPTION:
URL:https://hamazkayinwr.org/event/sayat-nova-choir-rehearsal/2026-01-07/
END:VEVENT
BEGIN:VEVENT
DTSTART;TZID=America/Los_Angeles:20260103T140000
DTEND;TZID=America/Los_Angeles:20260103T160000
DTSTAMP:20260423T155536
CREATED:20251016T200310Z
LAST-MODIFIED:20251016T200314Z
UID:10000741-1767448800-1767456000@hamazkayinwr.org
SUMMARY:Nairian Choir Rehearsal
DESCRIPTION:
URL:https://hamazkayinwr.org/event/nairian-choir-rehearsal/2026-01-03/
END:VEVENT
BEGIN:VEVENT
DTSTART;TZID=America/Los_Angeles:20260102T170000
DTEND;TZID=America/Los_Angeles:20260102T190000
DTSTAMP:20260423T155536
CREATED:20251016T195716Z
LAST-MODIFIED:20251016T195721Z
UID:10000697-1767373200-1767380400@hamazkayinwr.org
SUMMARY:Կար ու Ձեւի Դասարան
DESCRIPTION:
URL:https://hamazkayinwr.org/event/%d5%af%d5%a1%d6%80-%d5%b8%d6%82-%d5%b1%d5%a5%d6%82%d5%ab-%d5%a4%d5%a1%d5%bd%d5%a1%d6%80%d5%a1%d5%b6/2026-01-02/
ATTACH;FMTTYPE=image/png:https://hamazkayinwr.org/wp-content/uploads/2025/10/Sewing-Postcard-8.5x11-2025Final-NEW-copy.png
END:VEVENT
BEGIN:VEVENT
DTSTART;TZID=America/Los_Angeles:20260101T170000
DTEND;TZID=America/Los_Angeles:20260101T190000
DTSTAMP:20260423T155536
CREATED:20251012T064117Z
LAST-MODIFIED:20251012T064502Z
UID:10000664-1767286800-1767294000@hamazkayinwr.org
SUMMARY:Needlework Classes - Marash Embroidery
DESCRIPTION:
URL:https://hamazkayinwr.org/event/needlework-classes-marash-embroidery/2026-01-01/
LOCATION:Headquarter Offices for the Hamazkayin Cultural Foundation\, 1524 Cañada Blvd.\, Glendale\, CA\, 91208
ATTACH;FMTTYPE=image/png:https://hamazkayinwr.org/wp-content/uploads/2025/10/FLYER-Marash-embroidery-October-2025-copy.png
END:VEVENT
BEGIN:VEVENT
DTSTART;TZID=America/Los_Angeles:20251231T190000
DTEND;TZID=America/Los_Angeles:20251231T220000
DTSTAMP:20260423T155536
CREATED:20251016T200542Z
LAST-MODIFIED:20251027T172208Z
UID:10000810-1767207600-1767218400@hamazkayinwr.org
SUMMARY:Sayat Nova Choir Rehearsal
DESCRIPTION:
URL:https://hamazkayinwr.org/event/sayat-nova-choir-rehearsal/2025-12-31/
END:VEVENT
BEGIN:VEVENT
DTSTART;TZID=America/Los_Angeles:20251227T140000
DTEND;TZID=America/Los_Angeles:20251227T160000
DTSTAMP:20260423T155536
CREATED:20251016T200310Z
LAST-MODIFIED:20251016T200314Z
UID:10000740-1766844000-1766851200@hamazkayinwr.org
SUMMARY:Nairian Choir Rehearsal
DESCRIPTION:
URL:https://hamazkayinwr.org/event/nairian-choir-rehearsal/2025-12-27/
END:VEVENT
BEGIN:VEVENT
DTSTART;TZID=America/Los_Angeles:20251226T170000
DTEND;TZID=America/Los_Angeles:20251226T190000
DTSTAMP:20260423T155536
CREATED:20251016T195716Z
LAST-MODIFIED:20251016T195721Z
UID:10000696-1766768400-1766775600@hamazkayinwr.org
SUMMARY:Կար ու Ձեւի Դասարան
DESCRIPTION:
URL:https://hamazkayinwr.org/event/%d5%af%d5%a1%d6%80-%d5%b8%d6%82-%d5%b1%d5%a5%d6%82%d5%ab-%d5%a4%d5%a1%d5%bd%d5%a1%d6%80%d5%a1%d5%b6/2025-12-26/
ATTACH;FMTTYPE=image/png:https://hamazkayinwr.org/wp-content/uploads/2025/10/Sewing-Postcard-8.5x11-2025Final-NEW-copy.png
END:VEVENT
BEGIN:VEVENT
DTSTART;TZID=America/Los_Angeles:20251225T170000
DTEND;TZID=America/Los_Angeles:20251225T190000
DTSTAMP:20260423T155536
CREATED:20251012T064117Z
LAST-MODIFIED:20251012T064502Z
UID:10000663-1766682000-1766689200@hamazkayinwr.org
SUMMARY:Needlework Classes - Marash Embroidery
DESCRIPTION:
URL:https://hamazkayinwr.org/event/needlework-classes-marash-embroidery/2025-12-25/
LOCATION:Headquarter Offices for the Hamazkayin Cultural Foundation\, 1524 Cañada Blvd.\, Glendale\, CA\, 91208
ATTACH;FMTTYPE=image/png:https://hamazkayinwr.org/wp-content/uploads/2025/10/FLYER-Marash-embroidery-October-2025-copy.png
END:VEVENT
BEGIN:VEVENT
DTSTART;TZID=America/Los_Angeles:20251224T190000
DTEND;TZID=America/Los_Angeles:20251224T220000
DTSTAMP:20260423T155536
CREATED:20251016T200542Z
LAST-MODIFIED:20251027T172208Z
UID:10000809-1766602800-1766613600@hamazkayinwr.org
SUMMARY:Sayat Nova Choir Rehearsal
DESCRIPTION:
URL:https://hamazkayinwr.org/event/sayat-nova-choir-rehearsal/2025-12-24/
END:VEVENT
BEGIN:VEVENT
DTSTART;TZID=America/Los_Angeles:20251220T140000
DTEND;TZID=America/Los_Angeles:20251220T160000
DTSTAMP:20260423T155536
CREATED:20251016T200310Z
LAST-MODIFIED:20251016T200314Z
UID:10000739-1766239200-1766246400@hamazkayinwr.org
SUMMARY:Nairian Choir Rehearsal
DESCRIPTION:
URL:https://hamazkayinwr.org/event/nairian-choir-rehearsal/2025-12-20/
END:VEVENT
BEGIN:VEVENT
DTSTART;TZID=America/Los_Angeles:20251219T190000
DTEND;TZID=America/Los_Angeles:20251219T210000
DTSTAMP:20260423T155536
CREATED:20240613T223638Z
LAST-MODIFIED:20240613T223638Z
UID:10000090-1766170800-1766178000@hamazkayinwr.org
SUMMARY:Acting Workshops
DESCRIPTION:Join our Hamazkayin Theatre Company’s new Acting Workshops!\n\n\n\nWorkshops are every Friday starting on June 14\, 2024 from 7-9pm at Glendale Youth Center (211 W. Chestnut St\, Glendale\, CA).\n\n\n\nNo professional experience required! Workshops are FREE and conducted in Armenian.\n\n\n\nFore more information\, call Shoushig at (714) 403-0875.
URL:https://hamazkayinwr.org/event/acting-workshops/2025-12-19/
LOCATION:Glendale Youth Center\, 211 W. Chestnut St\, Glendale\, CA\, 91204\, United States
CATEGORIES:Theater,Workshops
ATTACH;FMTTYPE=image/png:https://hamazkayinwr.org/wp-content/uploads/2024/06/Hamazkayin-Theater-Workshop-Promo.png
END:VEVENT
BEGIN:VEVENT
DTSTART;TZID=America/Los_Angeles:20251219T170000
DTEND;TZID=America/Los_Angeles:20251219T190000
DTSTAMP:20260423T155536
CREATED:20251016T195716Z
LAST-MODIFIED:20251016T195721Z
UID:10000695-1766163600-1766170800@hamazkayinwr.org
SUMMARY:Կար ու Ձեւի Դասարան
DESCRIPTION:
URL:https://hamazkayinwr.org/event/%d5%af%d5%a1%d6%80-%d5%b8%d6%82-%d5%b1%d5%a5%d6%82%d5%ab-%d5%a4%d5%a1%d5%bd%d5%a1%d6%80%d5%a1%d5%b6/2025-12-19/
ATTACH;FMTTYPE=image/png:https://hamazkayinwr.org/wp-content/uploads/2025/10/Sewing-Postcard-8.5x11-2025Final-NEW-copy.png
END:VEVENT
BEGIN:VEVENT
DTSTART;TZID=America/Los_Angeles:20251218T170000
DTEND;TZID=America/Los_Angeles:20251218T190000
DTSTAMP:20260423T155536
CREATED:20251012T064117Z
LAST-MODIFIED:20251012T064502Z
UID:10000662-1766077200-1766084400@hamazkayinwr.org
SUMMARY:Needlework Classes - Marash Embroidery
DESCRIPTION:
URL:https://hamazkayinwr.org/event/needlework-classes-marash-embroidery/2025-12-18/
LOCATION:Headquarter Offices for the Hamazkayin Cultural Foundation\, 1524 Cañada Blvd.\, Glendale\, CA\, 91208
ATTACH;FMTTYPE=image/png:https://hamazkayinwr.org/wp-content/uploads/2025/10/FLYER-Marash-embroidery-October-2025-copy.png
END:VEVENT
BEGIN:VEVENT
DTSTART;TZID=America/Los_Angeles:20251217T190000
DTEND;TZID=America/Los_Angeles:20251217T220000
DTSTAMP:20260423T155536
CREATED:20251016T200542Z
LAST-MODIFIED:20251027T172208Z
UID:10000808-1765998000-1766008800@hamazkayinwr.org
SUMMARY:Sayat Nova Choir Rehearsal
DESCRIPTION:
URL:https://hamazkayinwr.org/event/sayat-nova-choir-rehearsal/2025-12-17/
END:VEVENT
BEGIN:VEVENT
DTSTART;TZID=America/Los_Angeles:20251213T140000
DTEND;TZID=America/Los_Angeles:20251213T160000
DTSTAMP:20260423T155536
CREATED:20251016T200310Z
LAST-MODIFIED:20251016T200314Z
UID:10000738-1765634400-1765641600@hamazkayinwr.org
SUMMARY:Nairian Choir Rehearsal
DESCRIPTION:
URL:https://hamazkayinwr.org/event/nairian-choir-rehearsal/2025-12-13/
END:VEVENT
BEGIN:VEVENT
DTSTART;TZID=America/Los_Angeles:20251212T190000
DTEND;TZID=America/Los_Angeles:20251212T210000
DTSTAMP:20260423T155537
CREATED:20240613T223638Z
LAST-MODIFIED:20240613T223638Z
UID:10000089-1765566000-1765573200@hamazkayinwr.org
SUMMARY:Acting Workshops
DESCRIPTION:Join our Hamazkayin Theatre Company’s new Acting Workshops!\n\n\n\nWorkshops are every Friday starting on June 14\, 2024 from 7-9pm at Glendale Youth Center (211 W. Chestnut St\, Glendale\, CA).\n\n\n\nNo professional experience required! Workshops are FREE and conducted in Armenian.\n\n\n\nFore more information\, call Shoushig at (714) 403-0875.
URL:https://hamazkayinwr.org/event/acting-workshops/2025-12-12/
LOCATION:Glendale Youth Center\, 211 W. Chestnut St\, Glendale\, CA\, 91204\, United States
CATEGORIES:Theater,Workshops
ATTACH;FMTTYPE=image/png:https://hamazkayinwr.org/wp-content/uploads/2024/06/Hamazkayin-Theater-Workshop-Promo.png
END:VEVENT
BEGIN:VEVENT
DTSTART;TZID=America/Los_Angeles:20251212T170000
DTEND;TZID=America/Los_Angeles:20251212T190000
DTSTAMP:20260423T155537
CREATED:20251016T195716Z
LAST-MODIFIED:20251016T195721Z
UID:10000694-1765558800-1765566000@hamazkayinwr.org
SUMMARY:Կար ու Ձեւի Դասարան
DESCRIPTION:
URL:https://hamazkayinwr.org/event/%d5%af%d5%a1%d6%80-%d5%b8%d6%82-%d5%b1%d5%a5%d6%82%d5%ab-%d5%a4%d5%a1%d5%bd%d5%a1%d6%80%d5%a1%d5%b6/2025-12-12/
ATTACH;FMTTYPE=image/png:https://hamazkayinwr.org/wp-content/uploads/2025/10/Sewing-Postcard-8.5x11-2025Final-NEW-copy.png
END:VEVENT
END:VCALENDAR