BEGIN:VCALENDAR
VERSION:2.0
PRODID:-//Hamazkayin Western USA - ECPv6.15.20//NONSGML v1.0//EN
CALSCALE:GREGORIAN
METHOD:PUBLISH
X-WR-CALNAME:Hamazkayin Western USA
X-ORIGINAL-URL:https://hamazkayinwr.org
X-WR-CALDESC:Events for Hamazkayin Western USA
REFRESH-INTERVAL;VALUE=DURATION:PT1H
X-Robots-Tag:noindex
X-PUBLISHED-TTL:PT1H
BEGIN:VTIMEZONE
TZID:America/Los_Angeles
BEGIN:DAYLIGHT
TZOFFSETFROM:-0800
TZOFFSETTO:-0700
TZNAME:PDT
DTSTART:20240310T100000
END:DAYLIGHT
BEGIN:STANDARD
TZOFFSETFROM:-0700
TZOFFSETTO:-0800
TZNAME:PST
DTSTART:20241103T090000
END:STANDARD
BEGIN:DAYLIGHT
TZOFFSETFROM:-0800
TZOFFSETTO:-0700
TZNAME:PDT
DTSTART:20250309T100000
END:DAYLIGHT
BEGIN:STANDARD
TZOFFSETFROM:-0700
TZOFFSETTO:-0800
TZNAME:PST
DTSTART:20251102T090000
END:STANDARD
BEGIN:DAYLIGHT
TZOFFSETFROM:-0800
TZOFFSETTO:-0700
TZNAME:PDT
DTSTART:20260308T100000
END:DAYLIGHT
BEGIN:STANDARD
TZOFFSETFROM:-0700
TZOFFSETTO:-0800
TZNAME:PST
DTSTART:20261101T090000
END:STANDARD
END:VTIMEZONE
BEGIN:VEVENT
DTSTART;TZID=America/Los_Angeles:20251008T190000
DTEND;TZID=America/Los_Angeles:20251008T220000
DTSTAMP:20260424T051046
CREATED:20251016T200542Z
LAST-MODIFIED:20251027T172208Z
UID:10000798-1759950000-1759960800@hamazkayinwr.org
SUMMARY:Sayat Nova Choir Rehearsal
DESCRIPTION:
URL:https://hamazkayinwr.org/event/sayat-nova-choir-rehearsal/2025-10-08/
END:VEVENT
BEGIN:VEVENT
DTSTART;TZID=America/Los_Angeles:20251004T140000
DTEND;TZID=America/Los_Angeles:20251004T160000
DTSTAMP:20260424T051046
CREATED:20251016T200310Z
LAST-MODIFIED:20251016T200314Z
UID:10000728-1759586400-1759593600@hamazkayinwr.org
SUMMARY:Nairian Choir Rehearsal
DESCRIPTION:
URL:https://hamazkayinwr.org/event/nairian-choir-rehearsal/2025-10-04/
END:VEVENT
BEGIN:VEVENT
DTSTART;TZID=America/Los_Angeles:20251003T190000
DTEND;TZID=America/Los_Angeles:20251003T210000
DTSTAMP:20260424T051046
CREATED:20240613T223638Z
LAST-MODIFIED:20240613T223638Z
UID:10000079-1759518000-1759525200@hamazkayinwr.org
SUMMARY:Acting Workshops
DESCRIPTION:Join our Hamazkayin Theatre Company’s new Acting Workshops!\n\n\n\nWorkshops are every Friday starting on June 14\, 2024 from 7-9pm at Glendale Youth Center (211 W. Chestnut St\, Glendale\, CA).\n\n\n\nNo professional experience required! Workshops are FREE and conducted in Armenian.\n\n\n\nFore more information\, call Shoushig at (714) 403-0875.
URL:https://hamazkayinwr.org/event/acting-workshops/2025-10-03/
LOCATION:Glendale Youth Center\, 211 W. Chestnut St\, Glendale\, CA\, 91204\, United States
CATEGORIES:Theater,Workshops
ATTACH;FMTTYPE=image/png:https://hamazkayinwr.org/wp-content/uploads/2024/06/Hamazkayin-Theater-Workshop-Promo.png
END:VEVENT
BEGIN:VEVENT
DTSTART;TZID=America/Los_Angeles:20251003T170000
DTEND;TZID=America/Los_Angeles:20251003T190000
DTSTAMP:20260424T051046
CREATED:20251016T195716Z
LAST-MODIFIED:20251016T195721Z
UID:10000684-1759510800-1759518000@hamazkayinwr.org
SUMMARY:Կար ու Ձեւի Դասարան
DESCRIPTION:
URL:https://hamazkayinwr.org/event/%d5%af%d5%a1%d6%80-%d5%b8%d6%82-%d5%b1%d5%a5%d6%82%d5%ab-%d5%a4%d5%a1%d5%bd%d5%a1%d6%80%d5%a1%d5%b6/2025-10-03/
ATTACH;FMTTYPE=image/png:https://hamazkayinwr.org/wp-content/uploads/2025/10/Sewing-Postcard-8.5x11-2025Final-NEW-copy.png
END:VEVENT
BEGIN:VEVENT
DTSTART;TZID=America/Los_Angeles:20251002T170000
DTEND;TZID=America/Los_Angeles:20251002T190000
DTSTAMP:20260424T051046
CREATED:20251012T063732Z
LAST-MODIFIED:20251012T063738Z
UID:10000641-1759424400-1759431600@hamazkayinwr.org
SUMMARY:Needlework Classes - Ասեղնագործութիւն
DESCRIPTION:
URL:https://hamazkayinwr.org/event/needlework-classes-%d5%a1%d5%bd%d5%a5%d5%b2%d5%b6%d5%a1%d5%a3%d5%b8%d6%80%d5%ae%d5%b8%d6%82%d5%a9%d5%ab%d6%82%d5%b6/2025-10-02/
LOCATION:Headquarter Offices for the Hamazkayin Cultural Foundation\, 1524 Cañada Blvd.\, Glendale\, CA\, 91208
ATTACH;FMTTYPE=image/jpeg:https://hamazkayinwr.org/wp-content/uploads/2025/10/558760445_1221088376730148_4345789525922779471_n.jpg
END:VEVENT
BEGIN:VEVENT
DTSTART;TZID=America/Los_Angeles:20251001T190000
DTEND;TZID=America/Los_Angeles:20251001T220000
DTSTAMP:20260424T051046
CREATED:20251016T200542Z
LAST-MODIFIED:20251027T172208Z
UID:10000797-1759345200-1759356000@hamazkayinwr.org
SUMMARY:Sayat Nova Choir Rehearsal
DESCRIPTION:
URL:https://hamazkayinwr.org/event/sayat-nova-choir-rehearsal/2025-10-01/
END:VEVENT
BEGIN:VEVENT
DTSTART;TZID=America/Los_Angeles:20250928T170000
DTEND;TZID=America/Los_Angeles:20250928T230000
DTSTAMP:20260424T051046
CREATED:20250911T175012Z
LAST-MODIFIED:20250911T175020Z
UID:10000368-1759078800-1759100400@hamazkayinwr.org
SUMMARY:Hamazkayin Gala
DESCRIPTION:
URL:https://hamazkayinwr.org/event/hamazkayin-gala/
LOCATION:Taglyan Cultural Complex\, 1201 Vine St\, Los Angeles\, CA\, 90038\, United States
ATTACH;FMTTYPE=image/jpeg:https://hamazkayinwr.org/wp-content/uploads/2025/09/540108938_1187873823384937_8422601853505927202_n.jpg
END:VEVENT
BEGIN:VEVENT
DTSTART;TZID=America/Los_Angeles:20250927T140000
DTEND;TZID=America/Los_Angeles:20250927T160000
DTSTAMP:20260424T051046
CREATED:20251016T200310Z
LAST-MODIFIED:20251016T200314Z
UID:10000727-1758981600-1758988800@hamazkayinwr.org
SUMMARY:Nairian Choir Rehearsal
DESCRIPTION:
URL:https://hamazkayinwr.org/event/nairian-choir-rehearsal/2025-09-27/
END:VEVENT
BEGIN:VEVENT
DTSTART;TZID=America/Los_Angeles:20250926T190000
DTEND;TZID=America/Los_Angeles:20250926T210000
DTSTAMP:20260424T051046
CREATED:20240613T223638Z
LAST-MODIFIED:20240613T223638Z
UID:10000078-1758913200-1758920400@hamazkayinwr.org
SUMMARY:Acting Workshops
DESCRIPTION:Join our Hamazkayin Theatre Company’s new Acting Workshops!\n\n\n\nWorkshops are every Friday starting on June 14\, 2024 from 7-9pm at Glendale Youth Center (211 W. Chestnut St\, Glendale\, CA).\n\n\n\nNo professional experience required! Workshops are FREE and conducted in Armenian.\n\n\n\nFore more information\, call Shoushig at (714) 403-0875.
URL:https://hamazkayinwr.org/event/acting-workshops/2025-09-26/
LOCATION:Glendale Youth Center\, 211 W. Chestnut St\, Glendale\, CA\, 91204\, United States
CATEGORIES:Theater,Workshops
ATTACH;FMTTYPE=image/png:https://hamazkayinwr.org/wp-content/uploads/2024/06/Hamazkayin-Theater-Workshop-Promo.png
END:VEVENT
BEGIN:VEVENT
DTSTART;TZID=America/Los_Angeles:20250926T170000
DTEND;TZID=America/Los_Angeles:20250926T190000
DTSTAMP:20260424T051046
CREATED:20251016T195716Z
LAST-MODIFIED:20251016T195721Z
UID:10000683-1758906000-1758913200@hamazkayinwr.org
SUMMARY:Կար ու Ձեւի Դասարան
DESCRIPTION:
URL:https://hamazkayinwr.org/event/%d5%af%d5%a1%d6%80-%d5%b8%d6%82-%d5%b1%d5%a5%d6%82%d5%ab-%d5%a4%d5%a1%d5%bd%d5%a1%d6%80%d5%a1%d5%b6/2025-09-26/
ATTACH;FMTTYPE=image/png:https://hamazkayinwr.org/wp-content/uploads/2025/10/Sewing-Postcard-8.5x11-2025Final-NEW-copy.png
END:VEVENT
BEGIN:VEVENT
DTSTART;TZID=America/Los_Angeles:20250925T170000
DTEND;TZID=America/Los_Angeles:20250925T190000
DTSTAMP:20260424T051046
CREATED:20251012T063732Z
LAST-MODIFIED:20251012T063738Z
UID:10000640-1758819600-1758826800@hamazkayinwr.org
SUMMARY:Needlework Classes - Ասեղնագործութիւն
DESCRIPTION:
URL:https://hamazkayinwr.org/event/needlework-classes-%d5%a1%d5%bd%d5%a5%d5%b2%d5%b6%d5%a1%d5%a3%d5%b8%d6%80%d5%ae%d5%b8%d6%82%d5%a9%d5%ab%d6%82%d5%b6/2025-09-25/
LOCATION:Headquarter Offices for the Hamazkayin Cultural Foundation\, 1524 Cañada Blvd.\, Glendale\, CA\, 91208
ATTACH;FMTTYPE=image/jpeg:https://hamazkayinwr.org/wp-content/uploads/2025/10/558760445_1221088376730148_4345789525922779471_n.jpg
END:VEVENT
BEGIN:VEVENT
DTSTART;TZID=America/Los_Angeles:20250924T190000
DTEND;TZID=America/Los_Angeles:20250924T220000
DTSTAMP:20260424T051046
CREATED:20251016T200542Z
LAST-MODIFIED:20251027T172208Z
UID:10000796-1758740400-1758751200@hamazkayinwr.org
SUMMARY:Sayat Nova Choir Rehearsal
DESCRIPTION:
URL:https://hamazkayinwr.org/event/sayat-nova-choir-rehearsal/2025-09-24/
END:VEVENT
BEGIN:VEVENT
DTSTART;TZID=America/Los_Angeles:20250920T140000
DTEND;TZID=America/Los_Angeles:20250920T160000
DTSTAMP:20260424T051046
CREATED:20251016T200310Z
LAST-MODIFIED:20251016T200314Z
UID:10000726-1758376800-1758384000@hamazkayinwr.org
SUMMARY:Nairian Choir Rehearsal
DESCRIPTION:
URL:https://hamazkayinwr.org/event/nairian-choir-rehearsal/2025-09-20/
END:VEVENT
BEGIN:VEVENT
DTSTART;TZID=America/Los_Angeles:20250919T190000
DTEND;TZID=America/Los_Angeles:20250919T210000
DTSTAMP:20260424T051046
CREATED:20240613T223638Z
LAST-MODIFIED:20240613T223638Z
UID:10000077-1758308400-1758315600@hamazkayinwr.org
SUMMARY:Acting Workshops
DESCRIPTION:Join our Hamazkayin Theatre Company’s new Acting Workshops!\n\n\n\nWorkshops are every Friday starting on June 14\, 2024 from 7-9pm at Glendale Youth Center (211 W. Chestnut St\, Glendale\, CA).\n\n\n\nNo professional experience required! Workshops are FREE and conducted in Armenian.\n\n\n\nFore more information\, call Shoushig at (714) 403-0875.
URL:https://hamazkayinwr.org/event/acting-workshops/2025-09-19/
LOCATION:Glendale Youth Center\, 211 W. Chestnut St\, Glendale\, CA\, 91204\, United States
CATEGORIES:Theater,Workshops
ATTACH;FMTTYPE=image/png:https://hamazkayinwr.org/wp-content/uploads/2024/06/Hamazkayin-Theater-Workshop-Promo.png
END:VEVENT
BEGIN:VEVENT
DTSTART;TZID=America/Los_Angeles:20250919T170000
DTEND;TZID=America/Los_Angeles:20250919T190000
DTSTAMP:20260424T051046
CREATED:20251016T195716Z
LAST-MODIFIED:20251016T195721Z
UID:10000682-1758301200-1758308400@hamazkayinwr.org
SUMMARY:Կար ու Ձեւի Դասարան
DESCRIPTION:
URL:https://hamazkayinwr.org/event/%d5%af%d5%a1%d6%80-%d5%b8%d6%82-%d5%b1%d5%a5%d6%82%d5%ab-%d5%a4%d5%a1%d5%bd%d5%a1%d6%80%d5%a1%d5%b6/2025-09-19/
ATTACH;FMTTYPE=image/png:https://hamazkayinwr.org/wp-content/uploads/2025/10/Sewing-Postcard-8.5x11-2025Final-NEW-copy.png
END:VEVENT
BEGIN:VEVENT
DTSTART;TZID=America/Los_Angeles:20250918T183000
DTEND;TZID=America/Los_Angeles:20250918T220000
DTSTAMP:20260424T051046
CREATED:20250911T174656Z
LAST-MODIFIED:20250911T174703Z
UID:10000367-1758220200-1758232800@hamazkayinwr.org
SUMMARY:Armenian Cultural Arts Mixer
DESCRIPTION:
URL:https://hamazkayinwr.org/event/armenian-cultural-arts-mixer-2/
LOCATION:Giggles\, 215 N Brand Blvd\, Glendale\, California\, 91203\, United States
ATTACH;FMTTYPE=image/jpeg:https://hamazkayinwr.org/wp-content/uploads/2025/09/ARTEE-Society-Committee-Event-_-Sept-18.jpg
END:VEVENT
BEGIN:VEVENT
DTSTART;TZID=America/Los_Angeles:20250918T170000
DTEND;TZID=America/Los_Angeles:20250918T190000
DTSTAMP:20260424T051046
CREATED:20251012T063732Z
LAST-MODIFIED:20251012T063738Z
UID:10000639-1758214800-1758222000@hamazkayinwr.org
SUMMARY:Needlework Classes - Ասեղնագործութիւն
DESCRIPTION:
URL:https://hamazkayinwr.org/event/needlework-classes-%d5%a1%d5%bd%d5%a5%d5%b2%d5%b6%d5%a1%d5%a3%d5%b8%d6%80%d5%ae%d5%b8%d6%82%d5%a9%d5%ab%d6%82%d5%b6/2025-09-18/
LOCATION:Headquarter Offices for the Hamazkayin Cultural Foundation\, 1524 Cañada Blvd.\, Glendale\, CA\, 91208
ATTACH;FMTTYPE=image/jpeg:https://hamazkayinwr.org/wp-content/uploads/2025/10/558760445_1221088376730148_4345789525922779471_n.jpg
END:VEVENT
BEGIN:VEVENT
DTSTART;TZID=America/Los_Angeles:20250917T190000
DTEND;TZID=America/Los_Angeles:20250917T220000
DTSTAMP:20260424T051046
CREATED:20251016T200542Z
LAST-MODIFIED:20251027T172208Z
UID:10000795-1758135600-1758146400@hamazkayinwr.org
SUMMARY:Sayat Nova Choir Rehearsal
DESCRIPTION:
URL:https://hamazkayinwr.org/event/sayat-nova-choir-rehearsal/2025-09-17/
END:VEVENT
BEGIN:VEVENT
DTSTART;TZID=America/Los_Angeles:20250913T140000
DTEND;TZID=America/Los_Angeles:20250913T160000
DTSTAMP:20260424T051046
CREATED:20251016T200310Z
LAST-MODIFIED:20251016T200314Z
UID:10000725-1757772000-1757779200@hamazkayinwr.org
SUMMARY:Nairian Choir Rehearsal
DESCRIPTION:
URL:https://hamazkayinwr.org/event/nairian-choir-rehearsal/2025-09-13/
END:VEVENT
BEGIN:VEVENT
DTSTART;TZID=America/Los_Angeles:20250913T110000
DTEND;TZID=America/Los_Angeles:20250913T150000
DTSTAMP:20260424T051047
CREATED:20250911T174233Z
LAST-MODIFIED:20250911T174239Z
UID:10000366-1757761200-1757775600@hamazkayinwr.org
SUMMARY:Paint & Serve Night
DESCRIPTION:
URL:https://hamazkayinwr.org/event/paint-serve-night/
LOCATION:Headquarter Offices for the Hamazkayin Cultural Foundation\, 1524 Cañada Blvd.\, Glendale\, CA\, 91208
ATTACH;FMTTYPE=image/jpeg:https://hamazkayinwr.org/wp-content/uploads/2025/09/Heritage-Committee-Event-Sept-13.jpg
END:VEVENT
BEGIN:VEVENT
DTSTART;TZID=America/Los_Angeles:20250912T190000
DTEND;TZID=America/Los_Angeles:20250912T210000
DTSTAMP:20260424T051047
CREATED:20240613T223638Z
LAST-MODIFIED:20240613T223638Z
UID:10000076-1757703600-1757710800@hamazkayinwr.org
SUMMARY:Acting Workshops
DESCRIPTION:Join our Hamazkayin Theatre Company’s new Acting Workshops!\n\n\n\nWorkshops are every Friday starting on June 14\, 2024 from 7-9pm at Glendale Youth Center (211 W. Chestnut St\, Glendale\, CA).\n\n\n\nNo professional experience required! Workshops are FREE and conducted in Armenian.\n\n\n\nFore more information\, call Shoushig at (714) 403-0875.
URL:https://hamazkayinwr.org/event/acting-workshops/2025-09-12/
LOCATION:Glendale Youth Center\, 211 W. Chestnut St\, Glendale\, CA\, 91204\, United States
CATEGORIES:Theater,Workshops
ATTACH;FMTTYPE=image/png:https://hamazkayinwr.org/wp-content/uploads/2024/06/Hamazkayin-Theater-Workshop-Promo.png
END:VEVENT
BEGIN:VEVENT
DTSTART;TZID=America/Los_Angeles:20250912T170000
DTEND;TZID=America/Los_Angeles:20250912T190000
DTSTAMP:20260424T051047
CREATED:20251016T195716Z
LAST-MODIFIED:20251016T195721Z
UID:10000681-1757696400-1757703600@hamazkayinwr.org
SUMMARY:Կար ու Ձեւի Դասարան
DESCRIPTION:
URL:https://hamazkayinwr.org/event/%d5%af%d5%a1%d6%80-%d5%b8%d6%82-%d5%b1%d5%a5%d6%82%d5%ab-%d5%a4%d5%a1%d5%bd%d5%a1%d6%80%d5%a1%d5%b6/2025-09-12/
ATTACH;FMTTYPE=image/png:https://hamazkayinwr.org/wp-content/uploads/2025/10/Sewing-Postcard-8.5x11-2025Final-NEW-copy.png
END:VEVENT
BEGIN:VEVENT
DTSTART;TZID=America/Los_Angeles:20250911T170000
DTEND;TZID=America/Los_Angeles:20250911T190000
DTSTAMP:20260424T051047
CREATED:20251012T063732Z
LAST-MODIFIED:20251012T063738Z
UID:10000638-1757610000-1757617200@hamazkayinwr.org
SUMMARY:Needlework Classes - Ասեղնագործութիւն
DESCRIPTION:
URL:https://hamazkayinwr.org/event/needlework-classes-%d5%a1%d5%bd%d5%a5%d5%b2%d5%b6%d5%a1%d5%a3%d5%b8%d6%80%d5%ae%d5%b8%d6%82%d5%a9%d5%ab%d6%82%d5%b6/2025-09-11/
LOCATION:Headquarter Offices for the Hamazkayin Cultural Foundation\, 1524 Cañada Blvd.\, Glendale\, CA\, 91208
ATTACH;FMTTYPE=image/jpeg:https://hamazkayinwr.org/wp-content/uploads/2025/10/558760445_1221088376730148_4345789525922779471_n.jpg
END:VEVENT
BEGIN:VEVENT
DTSTART;TZID=America/Los_Angeles:20250910T190000
DTEND;TZID=America/Los_Angeles:20250910T220000
DTSTAMP:20260424T051047
CREATED:20251016T200542Z
LAST-MODIFIED:20251027T172208Z
UID:10000794-1757530800-1757541600@hamazkayinwr.org
SUMMARY:Sayat Nova Choir Rehearsal
DESCRIPTION:
URL:https://hamazkayinwr.org/event/sayat-nova-choir-rehearsal/2025-09-10/
END:VEVENT
BEGIN:VEVENT
DTSTART;TZID=America/Los_Angeles:20250906T140000
DTEND;TZID=America/Los_Angeles:20250906T160000
DTSTAMP:20260424T051047
CREATED:20251016T200310Z
LAST-MODIFIED:20251016T200314Z
UID:10000724-1757167200-1757174400@hamazkayinwr.org
SUMMARY:Nairian Choir Rehearsal
DESCRIPTION:
URL:https://hamazkayinwr.org/event/nairian-choir-rehearsal/2025-09-06/
END:VEVENT
BEGIN:VEVENT
DTSTART;TZID=America/Los_Angeles:20250905T190000
DTEND;TZID=America/Los_Angeles:20250905T210000
DTSTAMP:20260424T051047
CREATED:20240613T223638Z
LAST-MODIFIED:20240613T223638Z
UID:10000075-1757098800-1757106000@hamazkayinwr.org
SUMMARY:Acting Workshops
DESCRIPTION:Join our Hamazkayin Theatre Company’s new Acting Workshops!\n\n\n\nWorkshops are every Friday starting on June 14\, 2024 from 7-9pm at Glendale Youth Center (211 W. Chestnut St\, Glendale\, CA).\n\n\n\nNo professional experience required! Workshops are FREE and conducted in Armenian.\n\n\n\nFore more information\, call Shoushig at (714) 403-0875.
URL:https://hamazkayinwr.org/event/acting-workshops/2025-09-05/
LOCATION:Glendale Youth Center\, 211 W. Chestnut St\, Glendale\, CA\, 91204\, United States
CATEGORIES:Theater,Workshops
ATTACH;FMTTYPE=image/png:https://hamazkayinwr.org/wp-content/uploads/2024/06/Hamazkayin-Theater-Workshop-Promo.png
END:VEVENT
BEGIN:VEVENT
DTSTART;TZID=America/Los_Angeles:20250905T170000
DTEND;TZID=America/Los_Angeles:20250905T190000
DTSTAMP:20260424T051047
CREATED:20251016T195716Z
LAST-MODIFIED:20251016T195721Z
UID:10000680-1757091600-1757098800@hamazkayinwr.org
SUMMARY:Կար ու Ձեւի Դասարան
DESCRIPTION:
URL:https://hamazkayinwr.org/event/%d5%af%d5%a1%d6%80-%d5%b8%d6%82-%d5%b1%d5%a5%d6%82%d5%ab-%d5%a4%d5%a1%d5%bd%d5%a1%d6%80%d5%a1%d5%b6/2025-09-05/
ATTACH;FMTTYPE=image/png:https://hamazkayinwr.org/wp-content/uploads/2025/10/Sewing-Postcard-8.5x11-2025Final-NEW-copy.png
END:VEVENT
BEGIN:VEVENT
DTSTART;TZID=America/Los_Angeles:20250904T170000
DTEND;TZID=America/Los_Angeles:20250904T190000
DTSTAMP:20260424T051047
CREATED:20251012T063732Z
LAST-MODIFIED:20251012T063738Z
UID:10000637-1757005200-1757012400@hamazkayinwr.org
SUMMARY:Needlework Classes - Ասեղնագործութիւն
DESCRIPTION:
URL:https://hamazkayinwr.org/event/needlework-classes-%d5%a1%d5%bd%d5%a5%d5%b2%d5%b6%d5%a1%d5%a3%d5%b8%d6%80%d5%ae%d5%b8%d6%82%d5%a9%d5%ab%d6%82%d5%b6/2025-09-04/
LOCATION:Headquarter Offices for the Hamazkayin Cultural Foundation\, 1524 Cañada Blvd.\, Glendale\, CA\, 91208
ATTACH;FMTTYPE=image/jpeg:https://hamazkayinwr.org/wp-content/uploads/2025/10/558760445_1221088376730148_4345789525922779471_n.jpg
END:VEVENT
BEGIN:VEVENT
DTSTART;TZID=America/Los_Angeles:20250903T190000
DTEND;TZID=America/Los_Angeles:20250903T220000
DTSTAMP:20260424T051047
CREATED:20251016T200542Z
LAST-MODIFIED:20251027T172208Z
UID:10000793-1756926000-1756936800@hamazkayinwr.org
SUMMARY:Sayat Nova Choir Rehearsal
DESCRIPTION:
URL:https://hamazkayinwr.org/event/sayat-nova-choir-rehearsal/2025-09-03/
END:VEVENT
BEGIN:VEVENT
DTSTART;TZID=America/Los_Angeles:20250830T140000
DTEND;TZID=America/Los_Angeles:20250830T160000
DTSTAMP:20260424T051047
CREATED:20251016T200310Z
LAST-MODIFIED:20251016T200314Z
UID:10000723-1756562400-1756569600@hamazkayinwr.org
SUMMARY:Nairian Choir Rehearsal
DESCRIPTION:
URL:https://hamazkayinwr.org/event/nairian-choir-rehearsal/2025-08-30/
END:VEVENT
END:VCALENDAR